BEGIN:VCALENDAR
VERSION:2.0
PRODID:-//ChamberMaster//Event Calendar 2.0//EN
METHOD:PUBLISH
X-PUBLISHED-TTL:P3D
REFRESH-INTERVAL:P3D
CALSCALE:GREGORIAN
BEGIN:VEVENT
DTSTART:20080209T060000Z
DTEND:20080209T060000Z
X-MICROSOFT-CDO-ALLDAYEVENT:FALSE
SUMMARY:2008 February Gala Elected Officials
DESCRIPTION:2008 February Gala Elected Officials
X-ALT-DESC;FMTTYPE=text/html:2008 February Gala Elected Officials
LOCATION:Marriott Rivercenter
UID:e.2020.2035
SEQUENCE:3
DTSTAMP:20260425T201413Z
URL:https://cm-dev.metrosa.com/events/details/2008-february-gala-elected-officials-02-09-2008-2035
END:VEVENT

END:VCALENDAR
