BEGIN:VCALENDAR
VERSION:2.0
PRODID:-//ChamberMaster//Event Calendar 2.0//EN
METHOD:PUBLISH
X-PUBLISHED-TTL:P3D
REFRESH-INTERVAL:P3D
CALSCALE:GREGORIAN
BEGIN:VEVENT
DTSTART:20080210T003000Z
DTEND:20080210T053000Z
X-MICROSOFT-CDO-ALLDAYEVENT:FALSE
SUMMARY:2008 February Gala - INDIVIDUALS
DESCRIPTION:
X-ALT-DESC;FMTTYPE=text/html:
LOCATION:Marriott Rivercenter Hotel
UID:e.2020.450
SEQUENCE:3
DTSTAMP:20260425T201537Z
URL:https://cm-dev.metrosa.com/events/details/2008-february-gala-individuals-02-09-2008-450
END:VEVENT

END:VCALENDAR
