BEGIN:VCALENDAR
VERSION:2.0
PRODID:-//ChamberMaster//Event Calendar 2.0//EN
METHOD:PUBLISH
X-PUBLISHED-TTL:P3D
REFRESH-INTERVAL:P3D
CALSCALE:GREGORIAN
BEGIN:VEVENT
DTSTART:20080222T224500Z
DTEND:20080223T010000Z
X-MICROSOFT-CDO-ALLDAYEVENT:FALSE
SUMMARY:2008 February GRAND OPENING @ Hyatt Place
DESCRIPTION:HYATT PLACE SAN ANTONIO\n7615 Jones Maltsberger\nFriday February 22\, 2008\nRIBBON CUTTING @ 4:00 P.M.\nCONTACT: Celeste Walters @ 930-2333 or email to Celeste.Walters@hyattselect.com\nCHAMBER CONTACT: Samantha Collins @ 384-7726\nDIRECTIONS: Hotel located on the corner of 281 N and JonesMaltsberger across the highway from Quarry Shopping Mall. \nDirections from San Antonio International Airport: Take Highway 281 South to the Jones-Maltsberger Exit. Take a right and come to first stop light turn left into driveway. \nDirections from 281 Northbound from Downtown area: Take 281 north exit Jones Maltsberger and turn left under bridge. Go up to next light and turn left into Hyatt Place driveway.\nThere will be great food and music along with door prize giveaways\, grand giveaway - trip to Bilize. \n\nPlease make your RSVP's to Celeste.Walters@hyattselect.com
X-ALT-DESC;FMTTYPE=text/html:HYATT PLACE SAN ANTONIO\n7615 Jones Maltsberger\nFriday February 22\, 2008\nRIBBON CUTTING @ 4:00 P.M.\nCONTACT: Celeste Walters @ 930-2333 or email to Celeste.Walters@hyattselect.com\nCHAMBER CONTACT: Samantha Collins @ 384-7726\nDIRECTIONS: Hotel located on the corner of 281 N and JonesMaltsberger across the highway from Quarry Shopping Mall. \nDirections from San Antonio International Airport: Take Highway 281 South to the Jones-Maltsberger Exit. Take a right and come to first stop light turn left into driveway. \nDirections from 281 Northbound from Downtown area: Take 281 north exit Jones Maltsberger and turn left under bridge. Go up to next light and turn left into Hyatt Place driveway.\nThere will be great food and music along with door prize giveaways\, grand giveaway - trip to Bilize. \n\nPlease make your RSVP's to Celeste.Walters@hyattselect.com
LOCATION:Hyatt Place San Antonio Airport/South
UID:e.2020.474
SEQUENCE:3
DTSTAMP:20260425T201546Z
URL:https://cm-dev.metrosa.com/events/details/2008-february-grand-opening-hyatt-place-02-22-2008-474
END:VEVENT

END:VCALENDAR
