BEGIN:VCALENDAR
VERSION:2.0
PRODID:-//ChamberMaster//Event Calendar 2.0//EN
METHOD:PUBLISH
X-PUBLISHED-TTL:P3D
REFRESH-INTERVAL:P3D
CALSCALE:GREGORIAN
BEGIN:VEVENT
DTSTART:20080220T160000Z
DTEND:20080220T180000Z
X-MICROSOFT-CDO-ALLDAYEVENT:FALSE
SUMMARY:2008 February GRAND OPENING @ SSFCU Rim Service Center
DESCRIPTION:SECURITY SERVICE FEDERAL CREDIT UNION\nRIM SERVICE CENTER\n18103 IH 10 West\, 78257\nWednesday February 20\, 2008\nRIBBON CUTTING @ 10:00 A.M.\nCONTACT: Inez Maldanado @ 476-4537\nCHAMBER CONTACT: Samantha Collins @ 384-7726\nDIRECTIONS: In the Rim Shopping Center at IH 10 and La Cantera Parkway.
X-ALT-DESC;FMTTYPE=text/html:SECURITY SERVICE FEDERAL CREDIT UNION\nRIM SERVICE CENTER\n18103 IH 10 West\, 78257\nWednesday February 20\, 2008\nRIBBON CUTTING @ 10:00 A.M.\nCONTACT: Inez Maldanado @ 476-4537\nCHAMBER CONTACT: Samantha Collins @ 384-7726\nDIRECTIONS: In the Rim Shopping Center at IH 10 and La Cantera Parkway.\n
LOCATION:SSFCU Rim Service Center
UID:e.2020.478
SEQUENCE:3
DTSTAMP:20260425T201637Z
URL:https://cm-dev.metrosa.com/events/details/2008-february-grand-opening-ssfcu-rim-service-center-02-20-2008-478
END:VEVENT

END:VCALENDAR
