BEGIN:VCALENDAR
VERSION:2.0
PRODID:-//ChamberMaster//Event Calendar 2.0//EN
METHOD:PUBLISH
X-PUBLISHED-TTL:P3D
REFRESH-INTERVAL:P3D
CALSCALE:GREGORIAN
BEGIN:VEVENT
DTSTART:20080215T180000Z
DTEND:20080215T200000Z
X-MICROSOFT-CDO-ALLDAYEVENT:FALSE
SUMMARY:2008 February GRAND OPENING @ United SA Federal Credit Union
DESCRIPTION:UNITED SA FEDERAL CREDIT UNION  \n9910 N Loop 1604 West\, Suite 129 - 78254\nFriday February 15\, 2008\nRIBBON CUTTING @ 12 Noon\nCONTACT: Karla Sarran @ 561-4550\nCHAMBER CONTACT: Samantha Collins @ 384-7726\nDIRECTIONS: Loop 1604 & Braun behind the Shell Gas Station. \nFood and Beverages will be provided.
X-ALT-DESC;FMTTYPE=text/html:UNITED SA FEDERAL CREDIT UNION  \n9910 N Loop 1604 West\, Suite 129 - 78254\nFriday February 15\, 2008\nRIBBON CUTTING @ 12 Noon\nCONTACT: Karla Sarran @ 561-4550\nCHAMBER CONTACT: Samantha Collins @ 384-7726\nDIRECTIONS: Loop 1604 & Braun behind the Shell Gas Station. \nFood and Beverages will be provided.
LOCATION:United SA Federal Credit Union
UID:e.2020.483
SEQUENCE:3
DTSTAMP:20260425T201716Z
URL:https://cm-dev.metrosa.com/events/details/2008-february-grand-opening-united-sa-federal-credit-union-02-15-2008-483
END:VEVENT

END:VCALENDAR
