BEGIN:VCALENDAR
VERSION:2.0
PRODID:-//ChamberMaster//Event Calendar 2.0//EN
METHOD:PUBLISH
X-PUBLISHED-TTL:P3D
REFRESH-INTERVAL:P3D
CALSCALE:GREGORIAN
BEGIN:VEVENT
DTSTART:20080212T230000Z
DTEND:20080213T010000Z
X-MICROSOFT-CDO-ALLDAYEVENT:FALSE
SUMMARY:2008 February GRAND OPENING @ Villa de S. A./Independent Li
DESCRIPTION:Villa de San Antonio/Independent Living Building\n8103 North Hollow\nTuesday February 12\, 2008\nRIBBON CUTTING @ 5:00 P.M.\nCONTACT: Rebecca Rodriguez @ 558-7600\nCHAMBER CONTACT: Samantha Collins @ 384-7726\nDIRECTIONS: They located off I-10 West exit Huebner. Once you exit turn left on Huebner Road.\nGo down Huebner Road until you reach Eckerd turned left on Eckerd and the fist street to your right is North Hollow take that right and you’ll see our Building. Past the first gate enter the second gate to your right that will be open. You will see the  Franciscan Sister of Chicago.\n\nIf you need further direction place call Villa de San Antonio and the receptionist that answers can help you if needed*210-558-7600.
X-ALT-DESC;FMTTYPE=text/html:Villa de San Antonio/Independent Living Building\n8103 North Hollow\nTuesday February 12\, 2008\nRIBBON CUTTING @ 5:00 P.M.\nCONTACT: Rebecca Rodriguez @ 558-7600\nCHAMBER CONTACT: Samantha Collins @ 384-7726\nDIRECTIONS: They located off I-10 West exit Huebner. Once you exit turn left on Huebner Road.\nGo down Huebner Road until you reach Eckerd turned left on Eckerd and the fist street to your right is North Hollow take that right and you’ll see our Building. Past the first gate enter the second gate to your right that will be open. You will see the  Franciscan Sister of Chicago.\n\nIf you need further direction place call Villa de San Antonio and the receptionist that answers can help you if needed*210-558-7600.
LOCATION:Villa de San Antonio/Independent Living Ctr
UID:e.2020.480
SEQUENCE:3
DTSTAMP:20260425T201704Z
URL:https://cm-dev.metrosa.com/events/details/2008-february-grand-opening-villa-de-s-a-independent-li-02-12-2008-480
END:VEVENT

END:VCALENDAR
