BEGIN:VCALENDAR
VERSION:2.0
PRODID:-//ChamberMaster//Event Calendar 2.0//EN
METHOD:PUBLISH
X-PUBLISHED-TTL:P3D
REFRESH-INTERVAL:P3D
CALSCALE:GREGORIAN
BEGIN:VEVENT
DTSTART:20080205T230000Z
DTEND:20080206T010000Z
X-MICROSOFT-CDO-ALLDAYEVENT:FALSE
SUMMARY:2008 February GRAND OPENING @ VIP STAFFING
DESCRIPTION:VIP STAFFING\n16500 San Pedro Avenue Suite 150\nTuesday February 5\, 2008\nRIBBON CUTTING @ 5:00 P.M.\nCONTACT: Lindsay Newton @  805-0320 x113 and Andy Waltman @ 340-2000\nCHAMBER CONTACT: Samantha Collins @ 384-7726\nDIRECTIONS: Please call VIP Staffing for driving directions or see map at Calendar of Events www.northsachamber.com
X-ALT-DESC;FMTTYPE=text/html:VIP STAFFING\n16500 San Pedro Avenue Suite 150\nTuesday February 5\, 2008\nRIBBON CUTTING @ 5:00 P.M.\nCONTACT: Lindsay Newton @  805-0320 x113 and Andy Waltman @ 340-2000\nCHAMBER CONTACT: Samantha Collins @ 384-7726\nDIRECTIONS: Please call VIP Staffing for driving directions or see map at Calendar of Events www.northsachamber.com
LOCATION:VIP STAFFING
UID:e.2020.481
SEQUENCE:3
DTSTAMP:20260425T201529Z
URL:https://cm-dev.metrosa.com/events/details/2008-february-grand-opening-vip-staffing-02-05-2008-481
END:VEVENT

END:VCALENDAR
