BEGIN:VCALENDAR
VERSION:2.0
PRODID:-//ChamberMaster//Event Calendar 2.0//EN
METHOD:PUBLISH
X-PUBLISHED-TTL:P3D
REFRESH-INTERVAL:P3D
CALSCALE:GREGORIAN
BEGIN:VEVENT
DTSTART:20080124T131500Z
DTEND:20080124T150000Z
X-MICROSOFT-CDO-ALLDAYEVENT:FALSE
SUMMARY:2008 January CIO Breakfast
DESCRIPTION:Note:  If you are not currently subscribed to CIO Breakfast information\, please contact Debby Zucker before registering - 210.344.4848.  Thank youThe North Chamber is working with IT stakeholders in the community to develop a web-based community portal to that helps these stakeholders attract more technology workers to San Antonio.  The portal will emphasize certain facets of our community that are important to knowledge workers – namely\, the vibrancy of the tech community\, social and cultural activities\, a strong sense of family and community\, outstanding schools\, and other professional opportunities that might exist.  We are teaming with the San Antonio Express-News to fold this effort into their update business “channel” on the mysa.com site and to provide a set of community advisors that will help provide input to the Express-News for community content development.
X-ALT-DESC;FMTTYPE=text/html:<P><FONT face=Arial color=#ff0000 size=2><EM>Note:&nbsp\; If you are not currently subscribed to CIO Breakfast information\, please contact Debby Zucker before registering - 210.344.4848.&nbsp\; Thank you</EM></FONT></P><P class=MsoNormal>The North Chamber is working with IT stakeholders in the community to develop a web-based community portal to that helps these stakeholders attract more technology workers to San Antonio.&nbsp\; The portal will emphasize certain facets of our community that are important to knowledge workers – namely\, the vibrancy of the tech community\, social and cultural activities\, a strong sense of family and community\, outstanding schools\, and other professional opportunities that might exist.&nbsp\; We are teaming with the San Antonio Express-News to fold this effort into their update business “channel” on the mysa.com site and to provide a set of community advisors that will help provide input to the Express-News for community content development. <?xml:namespace prefix = o ns = "urn:schemas-microsoft-com:office:office" /><o:p></o:p></P>
LOCATION:The Petroleum Club
UID:e.2020.381
SEQUENCE:3
DTSTAMP:20260425T213237Z
URL:https://cm-dev.metrosa.com/events/details/2008-january-cio-breakfast-01-24-2008-381
END:VEVENT

END:VCALENDAR
