BEGIN:VCALENDAR
VERSION:2.0
PRODID:-//ChamberMaster//Event Calendar 2.0//EN
METHOD:PUBLISH
X-PUBLISHED-TTL:P3D
REFRESH-INTERVAL:P3D
CALSCALE:GREGORIAN
BEGIN:VEVENT
DTSTART:20080123T060000Z
DTEND:20080123T060000Z
X-MICROSOFT-CDO-ALLDAYEVENT:FALSE
SUMMARY:2008 January New Member Orientation
DESCRIPTION:2008 January New Member Orientation
X-ALT-DESC;FMTTYPE=text/html:2008 January New Member Orientation
LOCATION:The Petroleum Club
UID:e.2020.3641
SEQUENCE:3
DTSTAMP:20260425T213447Z
URL:https://cm-dev.metrosa.com/events/details/2008-january-new-member-orientation-01-23-2008-3641
END:VEVENT

END:VCALENDAR
