BEGIN:VCALENDAR
VERSION:2.0
PRODID:-//ChamberMaster//Event Calendar 2.0//EN
METHOD:PUBLISH
X-PUBLISHED-TTL:P3D
REFRESH-INTERVAL:P3D
CALSCALE:GREGORIAN
BEGIN:VEVENT
DTSTART:20080124T233000Z
DTEND:20080125T010000Z
X-MICROSOFT-CDO-ALLDAYEVENT:FALSE
SUMMARY:2008 January RIBBON CUTTING @ A Taste of Texas Wine
DESCRIPTION:A TASTE OF TEXAS WINE\n200 Riverwalk Suite 11\nAzteca Theater\nThursday\, January 24\, 2008\nRIBBON CUTTING @ 5:30 p.m.\nCONTACT: George Garza @ 223-8996\nCHAMBER CONTACT: Samantha Collins @ 384-7726\nDIRECTIONS: They are located within the historic Aztec Theater on 201 E. Commerce in Downtown San Antonio.  Store is on the Riverwalk level of the theater. \nFood and refreshments\, Free Wine tasting and 20% discount on wine purchases during Ribbon Cutting Event.
X-ALT-DESC;FMTTYPE=text/html:A TASTE OF TEXAS WINE\n200 Riverwalk Suite 11\nAzteca Theater\nThursday\, January 24\, 2008\nRIBBON CUTTING @ 5:30 p.m.\nCONTACT: George Garza @ 223-8996\nCHAMBER CONTACT: Samantha Collins @ 384-7726\nDIRECTIONS: They are located within the historic Aztec Theater on 201 E. Commerce in Downtown San Antonio.  Store is on the Riverwalk level of the theater. \nFood and refreshments\, Free Wine tasting and 20% discount on wine purchases during Ribbon Cutting Event.\n
LOCATION:A Taste of Texas Wine
UID:e.2020.467
SEQUENCE:3
DTSTAMP:20260425T213821Z
URL:https://cm-dev.metrosa.com/events/details/2008-january-ribbon-cutting-a-taste-of-texas-wine-01-24-2008-467
END:VEVENT

END:VCALENDAR
