BEGIN:VCALENDAR
VERSION:2.0
PRODID:-//ChamberMaster//Event Calendar 2.0//EN
METHOD:PUBLISH
X-PUBLISHED-TTL:P3D
REFRESH-INTERVAL:P3D
CALSCALE:GREGORIAN
BEGIN:VEVENT
DTSTART:20080110T180000Z
DTEND:20080110T200000Z
X-MICROSOFT-CDO-ALLDAYEVENT:FALSE
SUMMARY:2008 January RIBBON CUTTING @ Girl Scouts of SW Texas
DESCRIPTION:GIRL SCOUTS OF THE SAN ANTONIO AREA\nSally Cheever Girl Scout Leadership Center\n811 North Coker Loop\nThursday January 10\, 2008\nRIBBON CUTTING @ 12:00 Noon (Photo Op Only)\nCONTACT: Susan Rutherford @ 349-2404 Ext 207\nCHAMBER CONTACT: Samantha Collins @ 384-7726\nDIRECTIONS: North on 281 exit Nakoma make an immediate right on Arion Parkway (the IBC Bank Building is a good landmark.) On Arion\, turn left just past the VIA bust stop on to Coker - building is at Coker and Coker! If you need additional directions please call Susan Rutherford. Phone number is above.
X-ALT-DESC;FMTTYPE=text/html:GIRL SCOUTS OF THE SAN ANTONIO AREA\nSally Cheever Girl Scout Leadership Center\n811 North Coker Loop\nThursday January 10\, 2008\nRIBBON CUTTING @ 12:00 Noon (Photo Op Only)\nCONTACT: Susan Rutherford @ 349-2404 Ext 207\nCHAMBER CONTACT: Samantha Collins @ 384-7726\nDIRECTIONS: North on 281 exit Nakoma make an immediate right on Arion Parkway (the IBC Bank Building is a good landmark.) On Arion\, turn left just past the VIA bust stop on to Coker - building is at Coker and Coker! If you need additional directions please call Susan Rutherford. Phone number is above.
LOCATION:Sally Cheever Girl Scout Leadership Center
UID:e.2020.468
SEQUENCE:3
DTSTAMP:20260425T213842Z
URL:https://cm-dev.metrosa.com/events/details/2008-january-ribbon-cutting-girl-scouts-of-sw-texas-01-10-2008-468
END:VEVENT

END:VCALENDAR
