BEGIN:VCALENDAR
VERSION:2.0
PRODID:-//ChamberMaster//Event Calendar 2.0//EN
METHOD:PUBLISH
X-PUBLISHED-TTL:P3D
REFRESH-INTERVAL:P3D
CALSCALE:GREGORIAN
BEGIN:VEVENT
DTSTART:20080110T233000Z
DTEND:20080111T010000Z
X-MICROSOFT-CDO-ALLDAYEVENT:FALSE
SUMMARY:2008 January RIBBON CUTTING @ Order-Up Restaurant
DESCRIPTION:ORDER-UP RESTAURANT\n9873 IH-10 West\nThe Colonnade Shopping Center\nThursday January 10\, 2007\nRIBBON CUTTING @ 5:30 p.m.\nCONTACT: David Galbreath @(210) 877-0007\nCHAMBER CONTACT: Samantha Collins @ 384-7726\nDIRECTIONS: Located at the corner of IH-10 and Wurzbach in the Colonnade Shopping Center next to Sushi Zushi and the Cake Shop.
X-ALT-DESC;FMTTYPE=text/html:ORDER-UP RESTAURANT\n9873 IH-10 West\nThe Colonnade Shopping Center\nThursday January 10\, 2007\nRIBBON CUTTING @ 5:30 p.m.\nCONTACT: David Galbreath @(210) 877-0007\nCHAMBER CONTACT: Samantha Collins @ 384-7726\nDIRECTIONS: Located at the corner of IH-10 and Wurzbach in the Colonnade Shopping Center next to Sushi Zushi and the Cake Shop.
LOCATION:Order-Up Restaurant
UID:e.2020.463
SEQUENCE:3
DTSTAMP:20260425T213631Z
URL:https://cm-dev.metrosa.com/events/details/2008-january-ribbon-cutting-order-up-restaurant-01-10-2008-463
END:VEVENT

END:VCALENDAR
