BEGIN:VCALENDAR
VERSION:2.0
PRODID:-//ChamberMaster//Event Calendar 2.0//EN
METHOD:PUBLISH
X-PUBLISHED-TTL:P3D
REFRESH-INTERVAL:P3D
CALSCALE:GREGORIAN
BEGIN:VEVENT
DTSTART:20080108T230000Z
DTEND:20080109T010000Z
X-MICROSOFT-CDO-ALLDAYEVENT:FALSE
SUMMARY:2008 January RIBBON CUTTING @ Quizono's
DESCRIPTION:QUIZNOS SUBS\n17503 La Cantera Parkway\nThe Rim Shopping Center\nTuesday January 8\, 2008\nRIBBON CUTTING @ 5:00 p.m.\nCONTACT: Ken Drayden or Mike Bender @ 391-1985\nCHAMBER CONTACT: Samantha Collins @ 384-7726\nDIRECTIONS: The store is in The Rim Shopping Center between ColdStone Creamery - Game Stop stores and around the corner from the Palladium Movie Theater.
X-ALT-DESC;FMTTYPE=text/html:QUIZNOS SUBS\n17503 La Cantera Parkway\nThe Rim Shopping Center\nTuesday January 8\, 2008\nRIBBON CUTTING @ 5:00 p.m.\nCONTACT: Ken Drayden or Mike Bender @ 391-1985\nCHAMBER CONTACT: Samantha Collins @ 384-7726\nDIRECTIONS: The store is in The Rim Shopping Center between ColdStone Creamery - Game Stop stores and around the corner from the Palladium Movie Theater.
LOCATION:Quizno's Subs
UID:e.2020.461
SEQUENCE:3
DTSTAMP:20260425T213631Z
URL:https://cm-dev.metrosa.com/events/details/2008-january-ribbon-cutting-quizono-s-01-08-2008-461
END:VEVENT

END:VCALENDAR
