BEGIN:VCALENDAR
VERSION:2.0
PRODID:-//ChamberMaster//Event Calendar 2.0//EN
METHOD:PUBLISH
X-PUBLISHED-TTL:P3D
REFRESH-INTERVAL:P3D
CALSCALE:GREGORIAN
BEGIN:VEVENT
DTSTART:20080116T180000Z
DTEND:20080116T200000Z
X-MICROSOFT-CDO-ALLDAYEVENT:FALSE
SUMMARY:2008 January RIBBON CUTTING @ Villa de San Antonio
DESCRIPTION:VILLA DE SAN ANTONIO\n8103 North Holw\, 78240\nWednesday January 16\, 2007\nRIBBON CUTTING @ 12 Noon\nCONTACT: Rebecca Rodriguez @ 558-7600\nCHAMBER CONTACT: Samantha Collins @ 384-7726\nDIRECTIONS: 410 West exit Babcock Road\, turn right on to Babcock and left on to Eckhert Road and Left onto North Hollow. \nWhen entering Villa De San Antonio community  turn onto North Hollow you will pass up the first gate to your right then turn right into the second gate (Main gate) it will have Franciscan Sister of Chicago on front.
X-ALT-DESC;FMTTYPE=text/html:VILLA DE SAN ANTONIO\n8103 North Holw\, 78240\nWednesday January 16\, 2007\nRIBBON CUTTING @ 12 Noon\nCONTACT: Rebecca Rodriguez @ 558-7600\nCHAMBER CONTACT: Samantha Collins @ 384-7726\nDIRECTIONS: 410 West exit Babcock Road\, turn right on to Babcock and left on to Eckhert Road and Left onto North Hollow. \nWhen entering Villa De San Antonio community  turn onto North Hollow you will pass up the first gate to your right then turn right into the second gate (Main gate) it will have Franciscan Sister of Chicago on front. \n
LOCATION:Villa de San Antonio
UID:e.2020.464
SEQUENCE:3
DTSTAMP:20260425T213652Z
URL:https://cm-dev.metrosa.com/events/details/2008-january-ribbon-cutting-villa-de-san-antonio-01-16-2008-464
END:VEVENT

END:VCALENDAR
