BEGIN:VCALENDAR
VERSION:2.0
PRODID:-//ChamberMaster//Event Calendar 2.0//EN
METHOD:PUBLISH
X-PUBLISHED-TTL:P3D
REFRESH-INTERVAL:P3D
CALSCALE:GREGORIAN
BEGIN:VEVENT
DTSTART:20080717T163000Z
DTEND:20080717T180000Z
X-MICROSOFT-CDO-ALLDAYEVENT:FALSE
SUMMARY:2008 July Ambassador Lunch Meeting
DESCRIPTION:MENU: Catering by Sea Island Shrimp HouseAppetizer: Peeled Shrimp - Wild Caught Texas Gulf Shrimp Served\, Peeled\, and Deveined with Signature Cocktail Sauce. MENU 1: Seafood Lunch Special - Six Medium Texas Gulf Shrimp and 1 Fish Filet Freshly Breaded then Fried Golden Brown Served with French Fries\, Creamy Coleslaw and Hushpuppies. MENU 2: Angus Cheeseburger - 1/2 pound 100% Certified Angus Beef Burger Grilled and Topped with Lettuce\, Tomato\, Cheese\, Pickles\, Mayo and Onions on a Toasted Kaiser Roll with French Fries. MENU 3: Chicken Sandwich - Freshly Breaded\, Lightly Fried Chicken Breast Topped with Lettuce\, Tomato\, Mayonnaise and Onion. Served on a Toasted Bun Served with French Fries and Cole Slaw. MENU 4: Grilled Chicken with Black Beans and Rice Pilaf.DESSERT: Key Lime Pie - Homemade and chilled. DRINKS: Sweet and Unsweetened Tea\, Ice Water
X-ALT-DESC;FMTTYPE=text/html:<P>MENU: Catering by Sea Island Shrimp House</P><P>Appetizer: Peeled Shrimp - Wild Caught Texas Gulf Shrimp Served\, Peeled\, and Deveined with Signature Cocktail Sauce. </P><P>MENU 1: Seafood Lunch Special - Six Medium Texas Gulf Shrimp and 1 Fish Filet Freshly Breaded then Fried Golden Brown Served with French Fries\, Creamy Coleslaw and Hushpuppies. </P><P>MENU 2: Angus Cheeseburger - 1/2 pound 100% Certified Angus Beef Burger Grilled and Topped with Lettuce\, Tomato\, Cheese\, Pickles\, Mayo and Onions on a Toasted Kaiser Roll with French Fries. </P><P>MENU 3: Chicken Sandwich - Freshly Breaded\, Lightly Fried Chicken Breast Topped with Lettuce\, Tomato\, Mayonnaise and Onion. Served on a Toasted Bun Served with French Fries and Cole Slaw. </P><P>MENU 4: Grilled&nbsp\;Chicken&nbsp\;with Black Beans and Rice Pilaf<FONT size=2>.</FONT></P><P>DESSERT: Key Lime Pie - Homemade and chilled. </P><P>DRINKS: Sweet and Unsweetened Tea\, Ice Water</P>
LOCATION:Randolph-Brooks FCU/Corp Bldg
UID:e.2020.493
SEQUENCE:3
DTSTAMP:20260425T135508Z
URL:https://cm-dev.metrosa.com/events/details/2008-july-ambassador-lunch-meeting-07-17-2008-493
END:VEVENT

END:VCALENDAR
