BEGIN:VCALENDAR
VERSION:2.0
PRODID:-//ChamberMaster//Event Calendar 2.0//EN
METHOD:PUBLISH
X-PUBLISHED-TTL:P3D
REFRESH-INTERVAL:P3D
CALSCALE:GREGORIAN
BEGIN:VEVENT
DTSTART:20080724T121500Z
DTEND:20080724T140000Z
X-MICROSOFT-CDO-ALLDAYEVENT:FALSE
SUMMARY:2008 July CIO Breakfast
DESCRIPTION:Note:  If you are not currently subscribed to CIO Breakfast information\, please contact Debby Zucker before registering - 210.344.4848.  Thank you"Don't become a victim of E-Discovery: Understanding how careful planning and communication can improve your company's position in the emerging world of electronic litigation"Presented by:  Tony Avey\, Prichard Hawkins McFarland & Young
X-ALT-DESC;FMTTYPE=text/html:<P><EM><FONT face=Arial color=#ff0000 size=2>Note:&nbsp\; If you are not currently subscribed to CIO Breakfast information\, please contact Debby Zucker before registering - 210.344.4848.&nbsp\; Thank you</FONT></EM></P><EM><FONT face=Arial color=#ff0000 size=2><FONT color=#0f0f0f size=3><P>"Don't become a victim of E-Discovery: Understanding how careful planning and communication can improve your company's position in the emerging world of electronic litigation"</P><P>Presented by:&nbsp\; Tony Avey\, Prichard Hawkins McFarland &amp\; Young&nbsp\;</P></FONT></FONT></EM>
LOCATION:The Petroleum Club
UID:e.2020.516
SEQUENCE:3
DTSTAMP:20260425T135222Z
URL:https://cm-dev.metrosa.com/events/details/2008-july-cio-breakfast-07-24-2008-516
END:VEVENT

END:VCALENDAR
