BEGIN:VCALENDAR
VERSION:2.0
PRODID:-//ChamberMaster//Event Calendar 2.0//EN
METHOD:PUBLISH
X-PUBLISHED-TTL:P3D
REFRESH-INTERVAL:P3D
CALSCALE:GREGORIAN
BEGIN:VEVENT
DTSTART:20080712T150000Z
DTEND:20080712T170000Z
X-MICROSOFT-CDO-ALLDAYEVENT:FALSE
SUMMARY:2008 July Grand Opening @ CHASE BANK
DESCRIPTION:CHASE BANKHill Country Plaza Center @ Loop 1604/NW Military 4095 N Loop 1604 West\, 78257Saturday\, July 12\, 2008RIBBON CUTTING @ 10:00 a.m. Event 10:00 am - 12:00 pmCONTACT: Mike Loessberg @ 492-4264CHAMBER CONTACT: Samantha Collins @ 384-7726DIRECTIONS: Exit NW Military off of Loop 1604 to the outside. Bank is located in the shopping center with the new Academy Store and Freddy's Frozen Custard. Chase Bank will be serving food and drinks for everyone. Ken Batchelor Cadillac/Hummer and Massage Heights will attend as well as other business partners.
X-ALT-DESC;FMTTYPE=text/html:<P>CHASE BANK</P><P>Hill Country Plaza Center @ Loop 1604/NW Military </P><P>4095 N Loop 1604 West\, 78257</P><P>Saturday\, July 12\, 2008</P><P>RIBBON CUTTING @ 10:00 a.m. Event 10:00 am - 12:00 pm</P><P>CONTACT: Mike Loessberg @ 492-4264</P><P>CHAMBER CONTACT: Samantha Collins @ 384-7726</P><P>DIRECTIONS: Exit NW Military&nbsp\;off of Loop 1604 to the outside. Bank is located in the shopping center with the new Academy Store and Freddy's Frozen Custard. </P><P>Chase Bank will be serving food and drinks for everyone. Ken Batchelor Cadillac/Hummer and Massage Heights will attend as well as other business partners.</P>
LOCATION:Chase Bank
UID:e.2020.518
SEQUENCE:3
DTSTAMP:20260425T135515Z
URL:https://cm-dev.metrosa.com/events/details/2008-july-grand-opening-chase-bank-07-12-2008-518
END:VEVENT

END:VCALENDAR
