BEGIN:VCALENDAR
VERSION:2.0
PRODID:-//ChamberMaster//Event Calendar 2.0//EN
METHOD:PUBLISH
X-PUBLISHED-TTL:P3D
REFRESH-INTERVAL:P3D
CALSCALE:GREGORIAN
BEGIN:VEVENT
DTSTART:20080716T150000Z
DTEND:20080716T170000Z
X-MICROSOFT-CDO-ALLDAYEVENT:FALSE
SUMMARY:2008 July Grand Opening @ TACO CABANA
DESCRIPTION:TACO CABANA/Stone Oak19231 Stone Oak Parkway\, 78258Wednesday July 16\, 2008RIBBON CUTTING @ 10:00 a.m. - EVENT - 10:00 a.m. - 12:00 p.m.CONTACT: Gabriel Cortez @ (210) 283-5534office or (210) 823-4725cellCHAMBER CONTACT: Samantha Collins @ 364-1581cellDIRECTIONS: Loop 1604 and exit Stone Oak Parkway. At the intersection of Stone Oak and Hueber travel through traffic light and turn left at Stonehue making a U-turn. Taco Cabana will be at your immediate right. Refreshments and food will be served. Beginning as a taco stand in San Antonio in 1978\, growing to over 140 restaurants employing over 4\,000 people\, Taco Cabana is a real force as an alternative to traditional Mexican restaurants or fast food establishments. Our restaurants feature generous portions of freshly prepared Mexican food at an exceptional value. Infused with a festive Mexican theme\, the interior and patio dining areas are a great place to relax with friends and family. Each day\, Taco Cabana kitchens prepare\, by hand\, homemade tortillas\, a variety of salsas\, grilled fajitas and other Mexican favorites. The result is great food in a relaxing atmosphere for a reasonable priceTaco Cabana is owned by Carrols Corporation of Syracuse\, N.Y.\, one of the largest restaurant companies in the U.S.\, owns\, operates and franchises more than 540 restaurants under the Burger King®\, Pollo Tropical®\, Taco Cabana® brands. Carrols operates in 16 states\, employs over 16\,000 people and has sales of approximately $750 million.
X-ALT-DESC;FMTTYPE=text/html:<P>TACO CABANA/Stone Oak</P><P>19231 Stone Oak Parkway\, 78258</P><P>Wednesday July 16\, 2008</P><P>RIBBON CUTTING @ 10:00 a.m. - EVENT - 10:00 a.m. - 12:00 p.m.</P><P>CONTACT: Gabriel Cortez @ (210) 283-5534office or (210) 823-4725cell</P><P>CHAMBER CONTACT: Samantha Collins @ 364-1581cell</P><P>DIRECTIONS: Loop 1604 and exit Stone Oak Parkway. At the intersection of Stone Oak and Hueber travel through traffic light and turn left at Stonehue making a U-turn. Taco Cabana will be at your immediate right. </P><P>Refreshments and food will be served. </P><P>Beginning as a taco stand in San Antonio in 1978\, growing to over 140 restaurants employing over 4\,000 people\, Taco Cabana is a real force as an alternative to traditional Mexican restaurants or fast food establishments. Our restaurants feature generous portions of freshly prepared Mexican food at an exceptional value. Infused with a festive Mexican theme\, the interior and patio dining areas are a great place to relax with friends and family. Each day\, Taco Cabana kitchens prepare\, by hand\, homemade tortillas\, a variety of salsas\, grilled fajitas and other Mexican favorites. The result is great food in a relaxing atmosphere for a reasonable priceTaco Cabana is owned by Carrols Corporation of Syracuse\, N.Y.\, one of the largest restaurant companies in the U.S.\, owns\, operates and franchises more than 540 restaurants under the Burger King®\, Pollo Tropical®\, Taco Cabana® brands. Carrols operates in 16 states\, employs over 16\,000 people and has sales of approximately $750 million.</P>
LOCATION:Taco Cabana/Stone Oak
UID:e.2020.519
SEQUENCE:3
DTSTAMP:20260425T135417Z
URL:https://cm-dev.metrosa.com/events/details/2008-july-grand-opening-taco-cabana-07-16-2008-519
END:VEVENT

END:VCALENDAR
