BEGIN:VCALENDAR
VERSION:2.0
PRODID:-//ChamberMaster//Event Calendar 2.0//EN
METHOD:PUBLISH
X-PUBLISHED-TTL:P3D
REFRESH-INTERVAL:P3D
CALSCALE:GREGORIAN
BEGIN:VEVENT
DTSTART:20080619T163000Z
DTEND:20080619T180000Z
X-MICROSOFT-CDO-ALLDAYEVENT:FALSE
SUMMARY:2008 June Ambassador Lunch Meeting
DESCRIPTION:MENU: Call Marilyn White(344-4848)with your Main Lunch Entree Choice: (1) Chicken and Spinach Salad - Mixed Greens flavored with apples\, walnuts\, and strawberries that marinated with honey & balsamic\, fresh mozzarella and sherry vinaigrette dressing. (2) Chicken Salad Melt- Chicken Salad\, Avocado and Mozzarella on wheat baguette toasted in the Panini press\, with choice of potato salad or fries. (3) Grilled Steak & Swiss Panini - Grilled Steak\, Caramelized Onion and Dijon Mustard on wheat baguette\, with choice of potato salad or fries.Appetizer: Chips and Tomato/Lentil Salsa   Drinks: Peach Iced Tea and Water
X-ALT-DESC;FMTTYPE=text/html:<P><STRONG>MENU: Call Marilyn White(344-4848)with your Main Lunch Entree Choice: </STRONG></P><P><STRONG>(1) Chicken and Spinach Salad - Mixed Greens flavored with apples\, walnuts\, and strawberries that marinated with honey &amp\; balsamic\, fresh mozzarella and sherry vinaigrette dressing. </STRONG></P><P><STRONG>(2) Chicken Salad Melt- Chicken Salad\, Avocado and Mozzarella on wheat baguette toasted in the Panini press\, with choice of potato salad or fries. </STRONG></P><P><STRONG>(3) Grilled Steak &amp\; Swiss Panini - Grilled Steak\, Caramelized Onion and Dijon Mustard on wheat baguette\, with choice of potato salad or fries.</STRONG></P><P><STRONG>Appetizer: Chips and Tomato/Lentil Salsa&nbsp\;&nbsp\; Drinks: Peach Iced Tea and Water</STRONG> </P>
LOCATION:West Avenue Kitchen
UID:e.2020.508
SEQUENCE:3
DTSTAMP:20260425T151146Z
URL:https://cm-dev.metrosa.com/events/details/2008-june-ambassador-lunch-meeting-06-19-2008-508
END:VEVENT

END:VCALENDAR
