BEGIN:VCALENDAR
VERSION:2.0
PRODID:-//ChamberMaster//Event Calendar 2.0//EN
METHOD:PUBLISH
X-PUBLISHED-TTL:P3D
REFRESH-INTERVAL:P3D
CALSCALE:GREGORIAN
BEGIN:VEVENT
DTSTART:20080626T121500Z
DTEND:20080626T140000Z
X-MICROSOFT-CDO-ALLDAYEVENT:FALSE
SUMMARY:2008 June CIO Breakfast
DESCRIPTION:Note:  If you are not currently subscribed to CIO Breakfast information\, please contact Debby Zucker before registering - 210.344.4848.  Thank youMichiel Espach\, Tesoro\, will facilitate discussion on Information Assurance.Information assurance (IA) is the practice of managing information-related risks. More specifically\, IA practitioners seek to protect and defend information and information systems by ensuring confidentiality\, integrity\, authentication\, availability\, and non-repudiation. These goals are relevant whether the information are in storage\, processing\, or transit\, and whether threatened by malice or accident.
X-ALT-DESC;FMTTYPE=text/html:<P><EM><FONT face=Arial color=#ff0000 size=2>Note:&nbsp\; If you are not currently subscribed to CIO Breakfast information\, please contact Debby Zucker before registering - 210.344.4848.&nbsp\; Thank you</FONT></EM></P><P><EM><FONT face=Arial color=#0f0f0f><STRONG>Michiel Espach\, Tesoro\, will facilitate discussion on Information Assurance.</STRONG></FONT></EM></P><P><SPAN style="FONT-SIZE: 12pt\; FONT-FAMILY: 'Times New Roman'\; mso-fareast-font-family: 'Times New Roman'\; mso-ansi-language: EN-US\; mso-fareast-language: EN-US\; mso-bidi-language: AR-SA"><STRONG>Information assurance (IA)</STRONG></SPAN><SPAN style="FONT-SIZE: 12pt\; FONT-FAMILY: 'Times New Roman'\; mso-fareast-font-family: 'Times New Roman'\; mso-ansi-language: EN-US\; mso-fareast-language: EN-US\; mso-bidi-language: AR-SA"> is the practice of managing information-related risks. More specifically\, IA practitioners seek to protect and defend information and information systems by ensuring <A href="http://en.wikipedia.org/wiki/Confidentiality"><SPAN style="COLOR: windowtext\; TEXT-DECORATION: none\; text-underline: none">confidentiality</SPAN></A>\, <A href="http://en.wikipedia.org/wiki/Integrity"><SPAN style="COLOR: windowtext\; TEXT-DECORATION: none\; text-underline: none">integrity</SPAN></A>\, <A href="http://en.wikipedia.org/wiki/Authentication"><SPAN style="COLOR: windowtext\; TEXT-DECORATION: none\; text-underline: none">authentication</SPAN></A>\, <A href="http://en.wikipedia.org/wiki/Availability"><SPAN style="COLOR: windowtext\; TEXT-DECORATION: none\; text-underline: none">availability</SPAN></A>\, and <A href="http://en.wikipedia.org/wiki/Non-repudiation"><SPAN style="COLOR: windowtext\; TEXT-DECORATION: none\; text-underline: none">non-repudiation</SPAN></A>. These goals are relevant whether the information are in storage\, processing\, or transit\, and whether threatened by malice or accident.</SPAN></P>
LOCATION:The Petroleum Club
UID:e.2020.500
SEQUENCE:3
DTSTAMP:20260425T151027Z
URL:https://cm-dev.metrosa.com/events/details/2008-june-cio-breakfast-06-26-2008-500
END:VEVENT

END:VCALENDAR
