BEGIN:VCALENDAR
VERSION:2.0
PRODID:-//ChamberMaster//Event Calendar 2.0//EN
METHOD:PUBLISH
X-PUBLISHED-TTL:P3D
REFRESH-INTERVAL:P3D
CALSCALE:GREGORIAN
BEGIN:VEVENT
DTSTART:20080617T160000Z
DTEND:20080617T190000Z
X-MICROSOFT-CDO-ALLDAYEVENT:FALSE
SUMMARY:2008 June Grand Opening @ Braundera Family YMCA
DESCRIPTION:BRAUNDERA FAMILY YMCA9606 Bandera Road\, 78250Tuesday June 17\, 2008RIBBON CUTTING @ 11:00 a.m.CONTACT: Stephanie Kenne @ 520-9700CHAMBER CONTACT: Samantha Collins @ 384-7726DIRECTIONS: www.ymcasatx.org/braunderaThe Braundera YMCA opened in the Fall of 1996\, on the grounds of the Crossroads Baptist Church (located at the intersection of Guilbeau & Tezel Road.) Through the charitable collaborators between the Kronkosky Charitable Foundation\, City of San Antonio\, HEB\, and other entities the Braundera YMCA officially opened its doors in early Fall of September 2001.The Braundera YMCA is located inside O.P. Schnabel Park. The YMCA is a mecca for children\, teens\, and families\, who wish to experience enriching activities in a natural setting located on 50 acres of land in the 200 acre park. Facilities include a 6\,500-square-foot multipurpose youth leadership building\, a 6\,500 square foot program support office building\, activity pavilions\, 8 sport fields\, a concession stand\, youth day camp site\, two ropes challenge courses\, hiking trails with exercise and nature study areas\, playgrounds\, outdoor education areas and family picnic areas. The Braundera YMCA offers programs and activities that include Y School Age (After School Care\, Summer Day Camps\,& Holiday Day Camps) and developmental youth sports for children and teens. The Braundera YMCA child development programs significantly contribute to the positive development of children\, and families by supporting working parents with the care\, education and recreation of their children during non-school hours.
X-ALT-DESC;FMTTYPE=text/html:<P>BRAUNDERA FAMILY YMCA</P><P>9606 Bandera Road\, 78250</P><P>Tuesday June 17\, 2008</P><P>RIBBON CUTTING @ 11:00 a.m.</P><P>CONTACT: Stephanie Kenne @ 520-9700</P><P>CHAMBER CONTACT: Samantha Collins @ 384-7726</P><P>DIRECTIONS: <A href="http://www.ymcasatx.org/braundera">www.ymcasatx.org/braundera</A></P><P align=left>The Braundera YMCA opened in the Fall of 1996\, on the grounds of the Crossroads Baptist Church (located at the intersection of Guilbeau &amp\; Tezel Road.) Through the charitable collaborators between the Kronkosky Charitable Foundation\, City of San Antonio\, HEB\, and other entities the Braundera YMCA officially opened its doors in early Fall of September 2001.</P><P align=left>The Braundera YMCA is located inside O.P. Schnabel Park. The YMCA is a mecca for children\, teens\, and families\, who wish to experience enriching activities in a natural setting located on 50 acres of land in the 200 acre park. Facilities include a 6\,500-square-foot multipurpose youth leadership building\, a 6\,500 square foot program support office building\, activity pavilions\, 8 sport fields\, a concession stand\, youth day camp site\, two ropes challenge courses\, hiking trails with exercise and nature study areas\, playgrounds\, outdoor education areas and family picnic areas. The Braundera YMCA offers programs and activities that include Y School Age (After School Care\, Summer Day Camps\,&amp\; Holiday Day Camps) and developmental youth sports for children and teens. The Braundera YMCA child development programs significantly contribute to the positive development of children\, and families by supporting working parents with the care\, education and recreation of their children during non-school hours.</P>
LOCATION:Braundera Family YMCA
UID:e.2020.513
SEQUENCE:3
DTSTAMP:20260425T151343Z
URL:https://cm-dev.metrosa.com/events/details/2008-june-grand-opening-braundera-family-ymca-06-17-2008-513
END:VEVENT

END:VCALENDAR
