BEGIN:VCALENDAR
VERSION:2.0
PRODID:-//ChamberMaster//Event Calendar 2.0//EN
METHOD:PUBLISH
X-PUBLISHED-TTL:P3D
REFRESH-INTERVAL:P3D
CALSCALE:GREGORIAN
BEGIN:VEVENT
DTSTART:20080611T220000Z
DTEND:20080612T000000Z
X-MICROSOFT-CDO-ALLDAYEVENT:FALSE
SUMMARY:2008 June Grand Opening @ Courtyard by Marriott North/Legacy
DESCRIPTION:COURTYARD BY MARRIOTT NORTH/ STONE OAK1803 East Sonterra Blvd @ The Legacy Shopping CenterWednesday\, June 11\, 2008RIBBON CUTTING @ 5:30 p.m. Event - 5:00 - 7:00 p.m.CONTACT: Joe Gamez @ (210) 347-5364 or 545-3100 front deskCHAMBER CONTACT: Samantha Collins @ 384-7726DIRECTIONS: www.marriott.com/satcn Courtyard by Marriott North/ Stone Oak at Legacy provides an oasis for business travelers. Their 24 hour business center is complete with computers\, internet\, printing capabilities\, and Wi-Fi in all public areas.They are a great family destination. Only 15 minutes from Six Flags Fiesta Texas\, UTSA\, & the Valero HQ\, 20 minutes from the Riverwalk\, Alamo\, Henry B. Gonzalez Convention Center\, and Alamodome\; and 25 minutes from SeaWorld\, Lackland/Randolph AFBs\, Canyon Lake\, and Schlitterbahn Waterpark in New Braunfels\, they are a great family choice.
X-ALT-DESC;FMTTYPE=text/html:<P>COURTYARD BY MARRIOTT NORTH/ STONE OAK</P><P>1803 East Sonterra Blvd @ The Legacy Shopping Center</P><P>Wednesday\, June 11\, 2008</P><P>RIBBON CUTTING @ 5:30 p.m. Event - 5:00 - 7:00 p.m.</P><P>CONTACT: Joe Gamez @ (210) 347-5364 or 545-3100 front desk</P><P>CHAMBER CONTACT: Samantha Collins @ 384-7726</P><P>DIRECTIONS: www.marriott.com/satcn </P><P align=left>Courtyard by Marriott North/ Stone Oak at Legacy provides an oasis for business travelers. Their 24 hour business center is complete with computers\, internet\, printing capabilities\, and Wi-Fi in all public areas.They are a great family destination. Only 15 minutes from Six Flags Fiesta Texas\, UTSA\, &amp\; the Valero HQ\, 20 minutes from the Riverwalk\, Alamo\, Henry B. Gonzalez Convention Center\, and Alamodome\; and 25 minutes from SeaWorld\, Lackland/Randolph AFBs\, Canyon Lake\, and Schlitterbahn Waterpark in New Braunfels\, they are a great family choice.</P>
LOCATION:Courtyard by Marriott North/ Legacy
UID:e.2020.498
SEQUENCE:3
DTSTAMP:20260425T151313Z
URL:https://cm-dev.metrosa.com/events/details/2008-june-grand-opening-courtyard-by-marriott-north-legacy-06-11-2008-498
END:VEVENT

END:VCALENDAR
