BEGIN:VCALENDAR
VERSION:2.0
PRODID:-//ChamberMaster//Event Calendar 2.0//EN
METHOD:PUBLISH
X-PUBLISHED-TTL:P3D
REFRESH-INTERVAL:P3D
CALSCALE:GREGORIAN
BEGIN:VEVENT
DTSTART:20080628T160000Z
DTEND:20080628T190000Z
X-MICROSOFT-CDO-ALLDAYEVENT:FALSE
SUMMARY:2008 June Grand Opening @ Freddy's Frozen Custard
DESCRIPTION:FREDDY'S FROZEN CUSTARDLoop 1604 @ NW Military/New Academy Store Shopping CenterSaturday June 28\, 2008RIBBON CUTTING @ 11:00 a.m. Event 11:00 am - 2:00 pmCONTACT: Mae Escobar @ 377-0033 or Cell 241-6644CHAMBER CONTACT: Samantha Collins @ 384-7726DIRECTIONS: www.freddysfrozencustard.com  On the corner of Loop 1604 West and NW Military in the New Academy Store Shopping Center. Freddy Simon the founder will be on hand to cut the ribbon. San Antonio Corvette Club and the Caliente Harley-Davidson Hog Champter will join in the festivities. The Steve Gehrline Show-KTSA Radio will broadcast live from 11 a.m. to 1:00 p.m.. All Freddy's Frozen Custard locations are accepting items to be sent to the TROOPS in a project called Operation Interdependence along with KTSA. You can check the KTSA website: www.ktsa.com on what type of items the public can donate.At Freddy's\, frozen custard is such a signature part of the menu that it’s included in the name. But surprisingly\, the Freddy’s story doesn’t begin with dessert. It all started with a main course back in the 1950’s.Wichita\, Kansas was already a historical landmark in the hamburger’s march to prominence\, and home to WWII veteran Freddy Simon. From his home kitchen\, Freddy used to treat family and friends to his personal recipe of an American classic he called “the steakburger.” This savory creation became far more than a Simon household sandwichNearly 50 years passed before fond childhood memories of this dinnertime delicacy inspired Freddy’s sons to make the steakburger the foundation of their restaurant named after dear ol’ dad. It was the most appropriate meal they deemed worthy enough to precede their other big attraction-frozen custard.Today\, thousands gather at Freddy’s for food and fellowship reminiscent of years past\, a simpler time
X-ALT-DESC;FMTTYPE=text/html:<P>FREDDY'S FROZEN CUSTARD</P><P>Loop 1604 @ NW Military/New Academy Store Shopping Center</P><P>Saturday June 28\, 2008</P><P>RIBBON CUTTING @ 11:00 a.m. Event 11:00 am - 2:00 pm</P><P>CONTACT: Mae Escobar @ 377-0033 or Cell 241-6644</P><P>CHAMBER CONTACT: Samantha Collins @ 384-7726</P><P>DIRECTIONS: <A href="http://www.freddysfrozencustard.com">www.freddysfrozencustard.com</A>&nbsp\; On the corner of Loop 1604 West and NW Military in the New Academy Store Shopping Center. </P><P>Freddy Simon the founder will be on hand to cut the ribbon. San Antonio Corvette Club and the Caliente Harley-Davidson Hog Champter will join in the festivities. The Steve Gehrline Show-KTSA Radio will broadcast live from 11 a.m. to 1:00 p.m.. All Freddy's Frozen Custard locations are accepting items to be sent to the TROOPS in a project called Operation Interdependence along with KTSA. You can check the KTSA website: www.ktsa.com on what type of items the public can donate.</P><P><STRONG>At Freddy's\,</STRONG> frozen custard is such a signature part of the menu that it’s included in the name. But surprisingly\, the Freddy’s story doesn’t begin with dessert. It all started with a main course back in the 1950’s.</P><P>Wichita\, Kansas was already a historical landmark in the hamburger’s march to prominence\, and home to WWII veteran Freddy Simon. From his home kitchen\, Freddy used to treat family and friends to his personal recipe of an American classic he called “the steakburger.” This savory creation became far more than a Simon household sandwichNearly 50 years passed before fond childhood memories of this dinnertime delicacy inspired Freddy’s sons to make the steakburger the foundation of their restaurant named after dear ol’ dad. It was the most appropriate meal they deemed worthy enough to precede their other big attraction-frozen custard.</P><P>Today\, thousands gather at Freddy’s for food and fellowship reminiscent of years past\, a simpler time</P>
LOCATION:Freddy's Frozen Custard
UID:e.2020.515
SEQUENCE:3
DTSTAMP:20260425T151425Z
URL:https://cm-dev.metrosa.com/events/details/2008-june-grand-opening-freddy-s-frozen-custard-06-28-2008-515
END:VEVENT

END:VCALENDAR
