BEGIN:VCALENDAR
VERSION:2.0
PRODID:-//ChamberMaster//Event Calendar 2.0//EN
METHOD:PUBLISH
X-PUBLISHED-TTL:P3D
REFRESH-INTERVAL:P3D
CALSCALE:GREGORIAN
BEGIN:VEVENT
DTSTART:20080327T121500Z
DTEND:20080327T140000Z
X-MICROSOFT-CDO-ALLDAYEVENT:FALSE
SUMMARY:2008 March CIO Breakfast
DESCRIPTION:Note:  If you are not currently subscribed to CIO Breakfast information\, please contact Debby Zucker before registering - 210.344.4848.  Thank youTopic: 2008 Gartner Executive ReportBusiness expectations for IT are rising at an accelerating rate and threaten to outpace IT capabilities and leadership. In 2008\, business priorities are looking for IT to make the difference in enterprise strategy. CIOs recognize these expectations and see significant change on the horizon. CIOs must respond to these expectations by raising IT effectiveness\, innovation and confidence\, or face continued budget and cost pressure.\nThe business expects IT to make a difference with what they already have--that requires CIOs to think differently in 2008 and beyond\, starting with their 2008 agenda and plans.\n\nJoin us for a briefing from Chris Germann\, Region VP\, Gartner Executive Programs\, as he presents "Making a Difference: The 2008 CIO Agenda"\; The Agenda presentation will deliver results of the 2008 CIO Survey published by Gartner Executive Programs to its members in January.
X-ALT-DESC;FMTTYPE=text/html:<P><EM><FONT face=Arial color=#ff0000 size=2>Note:&nbsp\; If you are not currently subscribed to CIO Breakfast information\, please contact Debby Zucker before registering - 210.344.4848.&nbsp\; Thank you</FONT></EM></P><EM><FONT face=Arial color=#ff0000 size=2><P><FONT color=#0f0f0f><STRONG>Topic:</STRONG> 2008 Gartner Executive Report</FONT></P><P><FONT color=#0f0f0f>Business expectations for IT are rising at an accelerating rate and threaten to outpace IT capabilities and leadership. In 2008\, business priorities are looking for IT to make the difference in enterprise strategy. CIOs recognize these expectations and see significant change on the horizon. CIOs must respond to these expectations by raising IT effectiveness\, innovation and confidence\, or face continued budget and cost pressure.<BR>The business expects IT to make a difference with what they already have--that requires CIOs to think differently in 2008 and beyond\, starting with their 2008 agenda and plans.<BR><BR>Join us for a briefing from Chris Germann\, Region VP\, Gartner Executive Programs\, as he presents "Making a Difference: The 2008 CIO Agenda"\; The Agenda presentation will deliver results of the 2008 CIO Survey published by Gartner Executive Programs to its members in January.</FONT></P></FONT></EM>
LOCATION:The Petroleum Club
UID:e.2020.472
SEQUENCE:3
DTSTAMP:20260425T184937Z
URL:https://cm-dev.metrosa.com/events/details/2008-march-cio-breakfast-03-27-2008-472
END:VEVENT

END:VCALENDAR
