BEGIN:VCALENDAR
VERSION:2.0
PRODID:-//ChamberMaster//Event Calendar 2.0//EN
METHOD:PUBLISH
X-PUBLISHED-TTL:P3D
REFRESH-INTERVAL:P3D
CALSCALE:GREGORIAN
BEGIN:VEVENT
DTSTART:20080301T160000Z
DTEND:20080301T200000Z
X-MICROSOFT-CDO-ALLDAYEVENT:FALSE
SUMMARY:2008 March GRAND OPENING @ Capital One /Blanco Market
DESCRIPTION:Capital One Blanco Market Branch\n18460 Blanco Road (across from the Target Center @ Vineyard)\nSaturday\, March 1\, 2008\nCONTACT: Jessica Villalobos @ 494-1972\nDIRECTIONS: On Blanco Road outside the 1604 Loop across the street from the Target Center/The Vineyard.\nThey will be serving Free Pancakes from 10 a.m. to 2 pm. Carnival Treats with activities for kids\, including face painting\, clowns and a bounce house. Grand Prize drawing for $1500 American Express gift card\, Free Hummer Limo Rides and Free Child ID service
X-ALT-DESC;FMTTYPE=text/html:Capital One Blanco Market Branch\n18460 Blanco Road (across from the Target Center @ Vineyard)\nSaturday\, March 1\, 2008\nCONTACT: Jessica Villalobos @ 494-1972\nDIRECTIONS: On Blanco Road outside the 1604 Loop across the street from the Target Center/The Vineyard.\nThey will be serving Free Pancakes from 10 a.m. to 2 pm. Carnival Treats with activities for kids\, including face painting\, clowns and a bounce house. Grand Prize drawing for $1500 American Express gift card\, Free Hummer Limo Rides and Free Child ID service
LOCATION:Capital One Blanco Market Branch
UID:e.2020.485
SEQUENCE:3
DTSTAMP:20260425T185735Z
URL:https://cm-dev.metrosa.com/events/details/2008-march-grand-opening-capital-one-blanco-market-03-01-2008-485
END:VEVENT

END:VCALENDAR
