BEGIN:VCALENDAR
VERSION:2.0
PRODID:-//ChamberMaster//Event Calendar 2.0//EN
METHOD:PUBLISH
X-PUBLISHED-TTL:P3D
REFRESH-INTERVAL:P3D
CALSCALE:GREGORIAN
BEGIN:VEVENT
DTSTART:20080312T170000Z
DTEND:20080312T190000Z
X-MICROSOFT-CDO-ALLDAYEVENT:FALSE
SUMMARY:2008 March GRAND OPENING @ Freddy's Frozen Custard
DESCRIPTION:FREDDY'S FROZEN CUSTARD\n7707 IH-35 South - 78224\nBehind South Park Mall\nWednesday March 12\, 2008\nRIBBON CUTTING @ 12 Noon and everyone can stay for Lunch\nCONTACT: Mae Escobar @ 377-0044\nCHAMBER CONTACT: Samantha Collins @ 384-7726\nDIRECTIONS: I 35 South exit at SW Military stay on the access road and the restaurant is behind South Park Mall - www.freddysfrozencustard.com
X-ALT-DESC;FMTTYPE=text/html:FREDDY'S FROZEN CUSTARD\n7707 IH-35 South - 78224\nBehind South Park Mall\nWednesday March 12\, 2008\nRIBBON CUTTING @ 12 Noon and everyone can stay for Lunch\nCONTACT: Mae Escobar @ 377-0044\nCHAMBER CONTACT: Samantha Collins @ 384-7726\nDIRECTIONS: I 35 South exit at SW Military stay on the access road and the restaurant is behind South Park Mall - www.freddysfrozencustard.com\n
LOCATION:Freddy's Frozen Custard/South Park Mall
UID:e.2020.484
SEQUENCE:3
DTSTAMP:20260425T185638Z
URL:https://cm-dev.metrosa.com/events/details/2008-march-grand-opening-freddy-s-frozen-custard-03-12-2008-484
END:VEVENT

END:VCALENDAR
