BEGIN:VCALENDAR
VERSION:2.0
PRODID:-//ChamberMaster//Event Calendar 2.0//EN
METHOD:PUBLISH
X-PUBLISHED-TTL:P3D
REFRESH-INTERVAL:P3D
CALSCALE:GREGORIAN
BEGIN:VEVENT
DTSTART:20080327T100000Z
DTEND:20080328T000000Z
X-MICROSOFT-CDO-ALLDAYEVENT:FALSE
SUMMARY:2008 March GRAND OPENING @ Maria Bonita Imports
DESCRIPTION:MARIA BONITA IMPORTS \n1160 N Loop 1604 W Suite 108 \nThursday March 27\, 2008\nRIBBON CUTTING @ 5:00 p.m.\nCONTACT: Charles & Maria Lagrange @ (210) 833-9419\nCHAMBER CONTACT: Samantha Collins @ 384-7726\nDIRECTIONS: In the shopping strip between the HEB PLUS and Lowe's at 1604/Blanco\nRefreshments and food will be served.
X-ALT-DESC;FMTTYPE=text/html:MARIA BONITA IMPORTS \n1160 N Loop 1604 W Suite 108 \nThursday March 27\, 2008\nRIBBON CUTTING @ 5:00 p.m.\nCONTACT: Charles & Maria Lagrange @ (210) 833-9419\nCHAMBER CONTACT: Samantha Collins @ 384-7726\nDIRECTIONS: In the shopping strip between the HEB PLUS and Lowe's at 1604/Blanco\nRefreshments and food will be served.
LOCATION:MARIA BONITA IMPORTS
UID:e.2020.487
SEQUENCE:3
DTSTAMP:20260425T185837Z
URL:https://cm-dev.metrosa.com/events/details/2008-march-grand-opening-maria-bonita-imports-03-27-2008-487
END:VEVENT

END:VCALENDAR
