BEGIN:VCALENDAR
VERSION:2.0
PRODID:-//ChamberMaster//Event Calendar 2.0//EN
METHOD:PUBLISH
X-PUBLISHED-TTL:P3D
REFRESH-INTERVAL:P3D
CALSCALE:GREGORIAN
BEGIN:VEVENT
DTSTART:20080329T153000Z
DTEND:20080330T000000Z
X-MICROSOFT-CDO-ALLDAYEVENT:FALSE
SUMMARY:2008 MARCH Grand-Reopening @ Chili's Grill & Bar
DESCRIPTION:CHILI'S GRILL & BAR\n12403 IH-10 West at Dezavala\, 78230\nSaturday March 29\, 2008\nRIBBON CUTTING @ 10:30 a.m. and stay for Lunch. Event will be 12 - 8 p.m.\nCONTACT: Shannon Thatcher\, GM @ 558-7788\nCHAMBER CONTACT: Samantha Collins @ 384-7726\nDIRECTIONS: Go to their website at www.chilis.com \nChili's has undergone a makeover. Come join them for great food and fun in a beautiful new restaurant. Bring your family and friends and here are just a few of the fun activities: Moon Bounce\, Face Painter and Balloon Making.
X-ALT-DESC;FMTTYPE=text/html:CHILI'S GRILL & BAR\n12403 IH-10 West at Dezavala\, 78230\nSaturday March 29\, 2008\nRIBBON CUTTING @ 10:30 a.m. and stay for Lunch. Event will be 12 - 8 p.m.\nCONTACT: Shannon Thatcher\, GM @ 558-7788\nCHAMBER CONTACT: Samantha Collins @ 384-7726\nDIRECTIONS: Go to their website at www.chilis.com \nChili's has undergone a makeover. Come join them for great food and fun in a beautiful new restaurant. Bring your family and friends and here are just a few of the fun activities: Moon Bounce\, Face Painter and Balloon Making.
LOCATION:Chili's Grill & Bar
UID:e.2020.494
SEQUENCE:3
DTSTAMP:20260425T185740Z
URL:https://cm-dev.metrosa.com/events/details/2008-march-grand-reopening-chili-s-grill-bar-03-29-2008-494
END:VEVENT

END:VCALENDAR
