BEGIN:VCALENDAR
VERSION:2.0
PRODID:-//ChamberMaster//Event Calendar 2.0//EN
METHOD:PUBLISH
X-PUBLISHED-TTL:P3D
REFRESH-INTERVAL:P3D
CALSCALE:GREGORIAN
BEGIN:VEVENT
DTSTART:20080522T121500Z
DTEND:20080522T140000Z
X-MICROSOFT-CDO-ALLDAYEVENT:FALSE
SUMMARY:2008 May CIO Breakfast
DESCRIPTION:Note:  If you are not currently subscribed to CIO Breakfast information\, please contact Debby Zucker before registering - 210.344.4848.  Thank you "Feel like a hostage lately to your major software vendors? Have you investigated Open Source software? Come hear about the efforts of CHRISTUS Health\, a $3B healthcare organization\, to quantify the opportunity of moving to Open Source software. Bring your own experience and be ready to share with senior level IT staff from across San Antonio."
X-ALT-DESC;FMTTYPE=text/html:<P><EM><FONT face=Arial color=#ff0000 size=2>Note:&nbsp\; If you are not currently subscribed to CIO Breakfast information\, please contact Debby Zucker before registering - 210.344.4848.&nbsp\; Thank you</FONT></EM></P><P><EM><FONT face=Arial color=#ff0000 size=2></FONT></EM>&nbsp\;</P><FONT color=#000000 size=4><P>"Feel like a hostage lately to your major software vendors? Have you investigated Open Source software? Come hear about the efforts of CHRISTUS Health\, a $3B healthcare organization\, to quantify the opportunity of moving to Open Source software. Bring your own experience and be ready to share with senior level IT staff from across San Antonio."</P></FONT>
LOCATION:The Petroleum Club
UID:e.2020.491
SEQUENCE:3
DTSTAMP:20260425T162926Z
URL:https://cm-dev.metrosa.com/events/details/2008-may-cio-breakfast-05-22-2008-491
END:VEVENT

END:VCALENDAR
