BEGIN:VCALENDAR
VERSION:2.0
PRODID:-//ChamberMaster//Event Calendar 2.0//EN
METHOD:PUBLISH
X-PUBLISHED-TTL:P3D
REFRESH-INTERVAL:P3D
CALSCALE:GREGORIAN
BEGIN:VEVENT
DTSTART:20080508T220000Z
DTEND:20080509T000000Z
X-MICROSOFT-CDO-ALLDAYEVENT:FALSE
SUMMARY:2008 May Grand Opening @ Capital One Bank
DESCRIPTION:CAPITAL ONE BANK 18460 Blanco Road Thursday May 8\, 2008 RIBBON CUTTING @ 12:00 NOON - Event is 11:30 am to 1:00 pm CONTACT: Wade Scroggins @ 494-1972 x 6 CHAMBER CONTACT: Samantha Collins @ 384-7726 DIRECTIONS: Bank is located on Blanco Road outside Loop 1604 across the street from the Target Center/The Vineyard. Food and refreshments will be served. Established in 1995\, Capital One has become a Fortune 500 Company in less than a decade. They have developed into a global diversified financial services provider\, with operations in the US\, Canada\, and the United Kingdom and continue to add innovative offerings to their current product range. Capital One has been named one of the “100 Best Companies to Work For\,” according to Fortune Magazine
X-ALT-DESC;FMTTYPE=text/html:<P><STRONG><SPAN style="FONT-SIZE: 14pt">CAPITAL </SPAN><?xml:namespace prefix = st1 ns = "urn:schemas-microsoft-com:office:smarttags" /><st1:stockticker><SPAN style="FONT-SIZE: 14pt">ONE</SPAN></st1:stockticker><SPAN style="FONT-SIZE: 14pt"> BANK<SPAN style="mso-tab-count: 1"> </SPAN><?xml:namespace prefix = o ns = "urn:schemas-microsoft-com:office:office" /><o:p></o:p></SPAN></STRONG></P><P class=MsoNormal style="MARGIN: 0in 0in 0pt\; mso-layout-grid-align: none"><STRONG><st1:Street><st1:address><SPAN style="FONT-SIZE: 14pt">18460 Blanco Road</SPAN></st1:address></st1:Street></STRONG></P><P class=MsoNormal style="MARGIN: 0in 0in 0pt\; mso-layout-grid-align: none"><STRONG><st1:Street><st1:address><SPAN style="FONT-SIZE: 14pt"></SPAN></st1:address></st1:Street><SPAN style="FONT-SIZE: 14pt"><o:p></o:p></SPAN></STRONG>&nbsp\;</P><P class=MsoNormal style="MARGIN: 0in 0in 0pt\; mso-layout-grid-align: none"><STRONG><st1:date Year="2008" Day="8" Month="5"><SPAN style="FONT-SIZE: 14pt">Thursday </SPAN><st1:date Year="2008" Day="8" Month="5" ls="trans"><SPAN style="FONT-SIZE: 14pt">May 8\, 2008</SPAN></st1:date></st1:date></STRONG></P><P class=MsoNormal style="MARGIN: 0in 0in 0pt\; mso-layout-grid-align: none"><STRONG><st1:date Year="2008" Day="8" Month="5"><st1:date Year="2008" Day="8" Month="5" ls="trans"><SPAN style="FONT-SIZE: 14pt"></SPAN></st1:date></st1:date><SPAN style="FONT-SIZE: 14pt"><o:p></o:p></SPAN></STRONG>&nbsp\;</P><P class=MsoNormal style="MARGIN: 0in 0in 0pt\; mso-layout-grid-align: none"><STRONG><SPAN style="FONT-SIZE: 14pt">RIBBON CUTTING @ </SPAN><st1:time Minute="0" Hour="12"><SPAN style="FONT-SIZE: 14pt">12:00</SPAN></st1:time><SPAN style="FONT-SIZE: 14pt"> </SPAN><st1:time Minute="0" Hour="12"><SPAN style="FONT-SIZE: 14pt">NOON</SPAN></st1:time><SPAN style="FONT-SIZE: 14pt"> - Event is </SPAN><st1:time Minute="30" Hour="11"><st1:time Minute="30" Hour="11"><SPAN style="FONT-SIZE: 14pt">11:30 am</SPAN></st1:time><SPAN style="FONT-SIZE: 14pt"> to </SPAN><st1:time Minute="00" Hour="13"><SPAN style="FONT-SIZE: 14pt">1:00 pm</SPAN></st1:time></st1:time></STRONG></P><P class=MsoNormal style="MARGIN: 0in 0in 0pt\; mso-layout-grid-align: none"><STRONG><st1:time Minute="30" Hour="11"><st1:time Minute="00" Hour="13"><SPAN style="FONT-SIZE: 14pt"></SPAN></st1:time></st1:time><SPAN style="FONT-SIZE: 14pt"><o:p></o:p></SPAN></STRONG>&nbsp\;</P><P class=MsoNormal style="MARGIN: 0in 0in 0pt\; mso-layout-grid-align: none"><SPAN style="FONT-WEIGHT: normal\; FONT-SIZE: 14pt">CONTACT: Wade Scroggins @ </SPAN><st1:phone phonenumber="$6494$$$" o_x003a_ls="trans"><SPAN style="FONT-WEIGHT: normal\; FONT-SIZE: 14pt">494-1972</SPAN></st1:phone><SPAN style="FONT-WEIGHT: normal\; FONT-SIZE: 14pt"> x 6</SPAN></P><P class=MsoNormal style="MARGIN: 0in 0in 0pt\; mso-layout-grid-align: none"><SPAN style="FONT-WEIGHT: normal\; FONT-SIZE: 14pt"><o:p></o:p></SPAN>&nbsp\;</P><P class=MsoNormal style="MARGIN: 0in 0in 0pt\; mso-layout-grid-align: none"><SPAN style="FONT-WEIGHT: normal\; FONT-SIZE: 14pt">CHAMBER CONTACT: Samantha Collins @ </SPAN><st1:phone phonenumber="$6384$$$" o_x003a_ls="trans"><SPAN style="FONT-WEIGHT: normal\; FONT-SIZE: 14pt">384-7726</SPAN></st1:phone></P><P class=MsoNormal style="MARGIN: 0in 0in 0pt\; mso-layout-grid-align: none"><st1:phone phonenumber="$6384$$$" o_x003a_ls="trans"><SPAN style="FONT-WEIGHT: normal\; FONT-SIZE: 14pt"></SPAN></st1:phone><SPAN style="FONT-WEIGHT: normal\; FONT-SIZE: 14pt"><o:p></o:p></SPAN>&nbsp\;</P><P class=MsoNormal style="MARGIN: 0in 0in 0pt\; mso-layout-grid-align: none"><SPAN style="FONT-WEIGHT: normal\; FONT-SIZE: 14pt">DIRECTIONS: Bank is located on </SPAN><st1:Street><st1:address><SPAN style="FONT-WEIGHT: normal\; FONT-SIZE: 14pt">Blanco Road</SPAN></st1:address></st1:Street><SPAN style="FONT-WEIGHT: normal\; FONT-SIZE: 14pt"> outside </SPAN><st1:place><SPAN style="FONT-WEIGHT: normal\; FONT-SIZE: 14pt">Loop</SPAN></st1:place><SPAN style="FONT-WEIGHT: normal\; FONT-SIZE: 14pt"> 1604 across the street from the Target Center/The Vineyard.</SPAN></P><P class=MsoNormal style="MARGIN: 0in 0in 0pt\; mso-layout-grid-align: none"><SPAN style="FONT-WEIGHT: normal\; FONT-SIZE: 14pt"><o:p></o:p></SPAN>&nbsp\;</P><P class=MsoNormal style="MARGIN: 0in 0in 0pt\; mso-layout-grid-align: none"><SPAN style="FONT-WEIGHT: normal\; FONT-SIZE: 14pt">Food and refreshments will be served.<o:p></o:p></SPAN></P><P class=MsoNormal style="MARGIN: 0in 0in 0pt"><SPAN style="FONT-WEIGHT: normal\; FONT-SIZE: 9pt\; COLOR: #333333\; FONT-FAMILY: Arial"><o:p>&nbsp\;</o:p></SPAN></P><P class=MsoNormal style="MARGIN: 0in 0in 0pt\; mso-layout-grid-align: none"><SPAN style="FONT-WEIGHT: normal\; FONT-SIZE: 12pt">Established in 1995\, Capital One has become a Fortune 500 Company in less than a decade. They have developed into a global diversified financial services provider\, with operations in the </SPAN><st1:country-region><st1:place><SPAN style="FONT-WEIGHT: normal\; FONT-SIZE: 12pt">US</SPAN></st1:place></st1:country-region><SPAN style="FONT-WEIGHT: normal\; FONT-SIZE: 12pt">\, </SPAN><st1:country-region><st1:place><SPAN style="FONT-WEIGHT: normal\; FONT-SIZE: 12pt">Canada</SPAN></st1:place></st1:country-region><SPAN style="FONT-WEIGHT: normal\; FONT-SIZE: 12pt">\, and the </SPAN><st1:country-region><st1:place><SPAN style="FONT-WEIGHT: normal\; FONT-SIZE: 12pt">United Kingdom</SPAN></st1:place></st1:country-region><SPAN style="FONT-WEIGHT: normal\; FONT-SIZE: 12pt"> and continue to add innovative offerings to their current product range. Capital One has been named one of the “100 Best Companies to Work For\,” according to <I style="mso-bidi-font-style: normal">Fortune</I> Magazine<o:p></o:p></SPAN></P><P>&nbsp\;</P>
LOCATION:Capital One Bank
UID:e.2020.499
SEQUENCE:3
DTSTAMP:20260425T163146Z
URL:https://cm-dev.metrosa.com/events/details/2008-may-grand-opening-capital-one-bank-05-08-2008-499
END:VEVENT

END:VCALENDAR
