BEGIN:VCALENDAR
VERSION:2.0
PRODID:-//ChamberMaster//Event Calendar 2.0//EN
METHOD:PUBLISH
X-PUBLISHED-TTL:P3D
REFRESH-INTERVAL:P3D
CALSCALE:GREGORIAN
BEGIN:VEVENT
DTSTART:20080528T163000Z
DTEND:20080528T230000Z
X-MICROSOFT-CDO-ALLDAYEVENT:FALSE
SUMMARY:2008 May Grand Re-Opening @New Horizons Computer Learning Cr
DESCRIPTION:
X-ALT-DESC;FMTTYPE=text/html:
LOCATION:New Horizons Computer Learning Center
UID:e.2020.507
SEQUENCE:3
DTSTAMP:20260425T163017Z
URL:https://cm-dev.metrosa.com/events/details/2008-may-grand-re-opening-new-horizons-computer-learning-cr-05-28-2008-507
END:VEVENT

END:VCALENDAR
