BEGIN:VCALENDAR
VERSION:2.0
PRODID:-//ChamberMaster//Event Calendar 2.0//EN
METHOD:PUBLISH
X-PUBLISHED-TTL:P3D
REFRESH-INTERVAL:P3D
CALSCALE:GREGORIAN
BEGIN:VEVENT
DTSTART:20080918T163000Z
DTEND:20080918T180000Z
X-MICROSOFT-CDO-ALLDAYEVENT:FALSE
SUMMARY:2008 SEPTEMBER Ambassador Lunch Meeting
DESCRIPTION:MENU:       **SONTERRA HOUSE SALAD: Tender Field Greens with Tomatoes\, Cucumbers\, and Artichoke Hearts\, topped with Balsamic Vinaigrette. **CHICKEN PICATTA: Chef's Choice of fresh vegetables and starch\, warm rolls and butter**SWEET AND UNSWEET TEA\, ICE WATER AND COFFEE. **NO DESSERT
X-ALT-DESC;FMTTYPE=text/html:<P>MENU:&nbsp\;&nbsp\;&nbsp\;&nbsp\;&nbsp\;&nbsp\; **SONTERRA HOUSE SALAD: Tender Field Greens with Tomatoes\, Cucumbers\, and Artichoke Hearts\, topped with Balsamic Vinaigrette. </P><P>**CHICKEN PICATTA: Chef's Choice of fresh vegetables and starch\, warm rolls and butter</P><P>**SWEET AND UNSWEET TEA\, ICE WATER AND COFFEE. </P><P>**NO DESSERT </P>
LOCATION:Club at Sonterra
UID:e.2020.523
SEQUENCE:3
DTSTAMP:20260425T111257Z
URL:https://cm-dev.metrosa.com/events/details/2008-september-ambassador-lunch-meeting-09-18-2008-523
END:VEVENT

END:VCALENDAR
