BEGIN:VCALENDAR
VERSION:2.0
PRODID:-//ChamberMaster//Event Calendar 2.0//EN
METHOD:PUBLISH
X-PUBLISHED-TTL:P3D
REFRESH-INTERVAL:P3D
CALSCALE:GREGORIAN
BEGIN:VEVENT
DTSTART:20080913T150000Z
DTEND:20080913T170000Z
X-MICROSOFT-CDO-ALLDAYEVENT:FALSE
SUMMARY:2008 SEPTEMBER Grand Opening @ Texian's Cocina & Cantina
DESCRIPTION:TEXIAN'S COCINA & CANTINA(formerly Faras Hacienda)6430 Bandera Road\, Suite 66\, 78238Saturday\, September 13\, 2008RIBBON CUTTING @ 11:30 A.M.CONTACT: Iman Berenji @ 210-630-5422 or 521-9944CHAMBER CONTACT: Samantha Collins @ 384-7726DIRECTIONS: Loop 410 West Exit for Bandera Road. Turn right on to Bandera and take a U-Turn at Seneca Drive. They will be serving lunch and margaritas\, wine and beer to those who attend the Grand Opening.
X-ALT-DESC;FMTTYPE=text/html:<FONT size=4><P>TEXIAN'S COCINA &amp\; CANTINA(formerly Faras Hacienda)</P><P>6430 Bandera Road\, Suite 66\, 78238</P><P>Saturday\, September 13\, 2008</P><P>RIBBON CUTTING @ 11:30 A.M.</P><P>CONTACT: Iman Berenji @ 210-630-5422 or 521-9944</P><P>CHAMBER CONTACT: Samantha Collins @ 384-7726</P><P>DIRECTIONS: Loop 410 West Exit for Bandera Road. Turn right on to Bandera and take a U-Turn at Seneca Drive. </P><P>They will be serving lunch and margaritas\, wine and beer to those who attend the Grand Opening. </P></FONT>
LOCATION:Texian's Cocina & Cantina
UID:e.2020.537
SEQUENCE:3
DTSTAMP:20260425T111420Z
URL:https://cm-dev.metrosa.com/events/details/2008-september-grand-opening-texian-s-cocina-cantina-09-13-2008-537
END:VEVENT

END:VCALENDAR
