BEGIN:VCALENDAR
VERSION:2.0
PRODID:-//ChamberMaster//Event Calendar 2.0//EN
METHOD:PUBLISH
X-PUBLISHED-TTL:P3D
REFRESH-INTERVAL:P3D
CALSCALE:GREGORIAN
BEGIN:VEVENT
DTSTART:20080917T150000Z
DTEND:20080917T170000Z
X-MICROSOFT-CDO-ALLDAYEVENT:FALSE
SUMMARY:2008 SEPTEMBER Grand Opening @ The Bank of San Antonio
DESCRIPTION:THE BANK OF SAN ANTONIOConcord Park One Building800 East Sonterra Blvd.\, Suite 140 - 78258Wednesday September 17\, 2008RIBBON CUTTING @ 10:00 A.M.CONTACT: Brandi Carberry Vitier @ 210-807-5550 directCHAMBER CONTACT: Samantha Collins @ 394-7726DIRECTIONS: Stone Oak Parkway to E. Sonterra Blvd turn right on to Sonterra and Right at Sigma/Sonterra. In the Concord Park One Building.
X-ALT-DESC;FMTTYPE=text/html:<P>THE BANK OF SAN ANTONIO</P><P>Concord Park One Building</P><P>800 East Sonterra Blvd.\, Suite 140 - 78258</P><P>Wednesday September 17\, 2008</P><P>RIBBON CUTTING @ 10:00 A.M.</P><P>CONTACT: Brandi Carberry Vitier @ 210-807-5550 direct</P><P>CHAMBER CONTACT: Samantha Collins @ 394-7726</P><P>DIRECTIONS: Stone Oak Parkway to E. Sonterra Blvd turn right on to Sonterra and Right at Sigma/Sonterra. In the Concord Park One Building. </P>
LOCATION:The Bank of San Antonio
UID:e.2020.538
SEQUENCE:3
DTSTAMP:20260425T111532Z
URL:https://cm-dev.metrosa.com/events/details/2008-september-grand-opening-the-bank-of-san-antonio-09-17-2008-538
END:VEVENT

END:VCALENDAR
