BEGIN:VCALENDAR
VERSION:2.0
PRODID:-//ChamberMaster//Event Calendar 2.0//EN
METHOD:PUBLISH
X-PUBLISHED-TTL:P3D
REFRESH-INTERVAL:P3D
CALSCALE:GREGORIAN
BEGIN:VEVENT
DTSTART:20080901T050000Z
DTEND:20080901T050000Z
X-MICROSOFT-CDO-ALLDAYEVENT:FALSE
SUMMARY:2008 September LLab Alumni Newsletter Ads
DESCRIPTION:2008 September LLab Alumni Newsletter Ads
X-ALT-DESC;FMTTYPE=text/html:2008 September LLab Alumni Newsletter Ads
LOCATION:North Chamber
UID:e.2020.2095
SEQUENCE:3
DTSTAMP:20260425T111258Z
URL:https://cm-dev.metrosa.com/events/details/2008-september-llab-alumni-newsletter-ads-09-01-2008-2095
END:VEVENT

END:VCALENDAR
