BEGIN:VCALENDAR
VERSION:2.0
PRODID:-//ChamberMaster//Event Calendar 2.0//EN
METHOD:PUBLISH
X-PUBLISHED-TTL:P3D
REFRESH-INTERVAL:P3D
CALSCALE:GREGORIAN
BEGIN:VEVENT
DTSTART:20080924T123000Z
DTEND:20080924T140000Z
X-MICROSOFT-CDO-ALLDAYEVENT:FALSE
SUMMARY:2008 September New Member Orientation
DESCRIPTION:
X-ALT-DESC;FMTTYPE=text/html:
LOCATION:The Petroleum Club
UID:e.2020.459
SEQUENCE:3
DTSTAMP:20260425T111124Z
URL:https://cm-dev.metrosa.com/events/details/2008-september-new-member-orientation-09-24-2008-459
END:VEVENT

END:VCALENDAR
