BEGIN:VCALENDAR
VERSION:2.0
PRODID:-//ChamberMaster//Event Calendar 2.0//EN
METHOD:PUBLISH
X-PUBLISHED-TTL:P3D
REFRESH-INTERVAL:P3D
CALSCALE:GREGORIAN
BEGIN:VEVENT
DTSTART:20090423T200000Z
DTEND:20090423T220000Z
X-MICROSOFT-CDO-ALLDAYEVENT:FALSE
SUMMARY:2009 APRIL Ribbon Cutting/Open House @ RANDSTAD
DESCRIPTION:RANDSTAD6993 Blanco Road\, 78216Thursday April 23\, 2009OPEN HOUSE EVENT: 3 - 5 p.m.RIBBON CUTTING @ 4:00 p.m.CONTACT: Vince Panella @ 366-4402CHAMBER CONTACT: Samantha Collins @ 364-1581DIRECTIONS: Travel loop 410 to Blanco Road. Turn inside the loop on to Blanco. Turn right in to the Blanco Junction Shopping Strip. The business store front is between West Marine & ClippersFood and Refreshments will be Catered by Dough Pizzeria.  Employment & Recruitment Agencies and the Randstad DifferenceRandstad is one of the industry’s most renowned recruitment agencies because we successfully match people with the companies that will best develop their potential\; and we match companies with the people who will take their business to the next level. We believe that creating the best solutions in HR services means always doing more\, and going further. Employment & recruitment agencies need to understand both the present and future needs of their clients and candidates. Randstad truly understands that the better we know our clients and candidates\, the better we can match their needs and find the perfect fit.Randstad has 5 distinctive service lines: Staffing In-house Services Professionals Search & Placement HR solutions
X-ALT-DESC;FMTTYPE=text/html:<DIV style="FONT-FAMILY: Arial"><FONT size=4><P>RANDSTAD</P><P>6993 Blanco Road\, 78216</P><P>Thursday April 23\, 2009</P><P>OPEN HOUSE EVENT: 3 - 5 p.m.</P></FONT><FONT color=#ff0000 size=4><FONT color=#ff0000 size=4><P>RIBBON CUTTING @ 4:00 p.m.</P></FONT></FONT><FONT size=4><P>CONTACT: Vince Panella @&nbsp\;366-4402</P><P>CHAMBER CONTACT: Samantha Collins @ 364-1581</P><P>DIRECTIONS: Travel loop 410 to Blanco Road. Turn inside the loop on to Blanco. Turn right in to the Blanco Junction Shopping Strip. The business store front is between West Marine &amp\; Clippers</P><P>Food and Refreshments will be Catered by <B><I>Dough Pizzeria. </P></B></I><P>&nbsp\;</P><B><P>Employment &amp\; Recruitment Agencies and the Randstad Difference</P></B></FONT><P>Randstad is one of the industry’s most renowned recruitment agencies because we successfully match people with the companies that will best develop their potential\; and we match companies with the people who will take their business to the next level. We believe that creating the best solutions in HR services means always doing more\, and going further. Employment &amp\; recruitment agencies need to understand both the present and future needs of their clients and candidates. Randstad truly understands that the better we know our clients and candidates\, the better we can match their needs and find the perfect fit.</P><B><P>Randstad has 5 distinctive service lines: </P><DIR><DIR></B><P>Staffing </P><P>In-house Services </P><P>Professionals </P><P>Search &amp\; Placement </P><P>HR solutions</P></DIR></DIR></DIV>
LOCATION:RANDSTAD
UID:e.2020.624
SEQUENCE:3
DTSTAMP:20260425T021848Z
URL:https://cm-dev.metrosa.com/events/details/2009-april-ribbon-cutting-open-house-randstad-04-23-2009-624
END:VEVENT

END:VCALENDAR
