BEGIN:VCALENDAR
VERSION:2.0
PRODID:-//ChamberMaster//Event Calendar 2.0//EN
METHOD:PUBLISH
X-PUBLISHED-TTL:P3D
REFRESH-INTERVAL:P3D
CALSCALE:GREGORIAN
BEGIN:VEVENT
DTSTART:20090820T163000Z
DTEND:20090820T180000Z
X-MICROSOFT-CDO-ALLDAYEVENT:FALSE
SUMMARY:2009 August Ambassador Lunch Meeting
DESCRIPTION:DATE & TIME: THURSDAY AUGUST 20\, 2009 - 11:30 to 1:00 p.m. LOCATION: BRASSERIE PAVIL1818 N Loop 1604 West #101Same Shopping Center as Roaring Fork & Wild Fish Directions (210)479-5000 and map on chamber web site MENU:  Penne Pasta with Grilled Chicken\, Mushrooms\, Sweet Peppers Tarragon\, Goat's Cheese Cream. DESSERT: Raspberry Gateau au Chocolat\, Glazed Chocolate cake with Raspberry Filling and Fresh Whipped Cream. Iced Tea\, Water and Coffee included. PRICE: $17 All-inclusive REGISTRATION: 11:00 a.m. * Lunch/Meeting 11:30 a.m.RSVP'S: DEADLINE IS MONDAY - August 17\, 2009 - NOON WITH PAYMENT FOR YOUR TEAM'S EXTRA 300 POINTS. Registration goes off web site midnight Tuesday August 18\, 2009. After deadline you may call the Chamber and register with your credit card 344-4848.
X-ALT-DESC;FMTTYPE=text/html:<P>DATE &amp\; TIME: THURSDAY AUGUST 20\, 2009 - 11:30 to 1:00 p.m. </P><P>LOCATION: BRASSERIE PAVIL</P><P>1818 N Loop 1604 West #101</P><P>Same Shopping Center as Roaring Fork &amp\; Wild Fish Directions (210)479-5000 and map on chamber web site </P><P>MENU:&nbsp\;&nbsp\;Penne Pasta with Grilled Chicken\,&nbsp\;Mushrooms\, Sweet Peppers Tarragon\, Goat's Cheese Cream. </P><P>DESSERT: Raspberry Gateau au Chocolat\, Glazed Chocolate cake with Raspberry Filling and Fresh Whipped Cream. Iced Tea\, Water and Coffee included. </P><P>PRICE: $17 All-inclusive </P><P>REGISTRATION: 11:00 a.m. *&nbsp\;Lunch/Meeting 11:30 a.m.</P><P>RSVP'S: DEADLINE IS MONDAY - August 17\, 2009 - NOON WITH PAYMENT FOR YOUR TEAM'S EXTRA 300 POINTS. Registration goes off web site midnight Tuesday August 18\, 2009. After deadline you may call the Chamber and register with your credit card 344-4848. </P>
LOCATION:Brasserie Pavil
UID:e.2020.602
SEQUENCE:3
DTSTAMP:20260424T213047Z
URL:https://cm-dev.metrosa.com/events/details/2009-august-ambassador-lunch-meeting-08-20-2009-602
END:VEVENT

END:VCALENDAR
