BEGIN:VCALENDAR
VERSION:2.0
PRODID:-//ChamberMaster//Event Calendar 2.0//EN
METHOD:PUBLISH
X-PUBLISHED-TTL:P3D
REFRESH-INTERVAL:P3D
CALSCALE:GREGORIAN
BEGIN:VEVENT
DTSTART:20090102T030000Z
DTEND:20100101T030000Z
X-MICROSOFT-CDO-ALLDAYEVENT:FALSE
SUMMARY:2009 Board Room Rental
DESCRIPTION:
X-ALT-DESC;FMTTYPE=text/html:
LOCATION:North Chamber
UID:e.2020.668
SEQUENCE:3
DTSTAMP:20260424T164044Z
URL:https://cm-dev.metrosa.com/events/details/2009-board-room-rental-01-01-2009-668
END:VEVENT

END:VCALENDAR
