BEGIN:VCALENDAR
VERSION:2.0
PRODID:-//ChamberMaster//Event Calendar 2.0//EN
METHOD:PUBLISH
X-PUBLISHED-TTL:P3D
REFRESH-INTERVAL:P3D
CALSCALE:GREGORIAN
BEGIN:VEVENT
DTSTART:20090728T050000Z
DTEND:20091231T060000Z
X-MICROSOFT-CDO-ALLDAYEVENT:FALSE
SUMMARY:2009 Certificate of Origins
DESCRIPTION:2009 Certificate of Origins
X-ALT-DESC;FMTTYPE=text/html:2009 Certificate of Origins
LOCATION:North Chamber
UID:e.2020.2227
SEQUENCE:3
DTSTAMP:20260424T164207Z
URL:https://cm-dev.metrosa.com/events/details/2009-certificate-of-origins-07-28-2009-2227
END:VEVENT

END:VCALENDAR
