BEGIN:VCALENDAR
VERSION:2.0
PRODID:-//ChamberMaster//Event Calendar 2.0//EN
METHOD:PUBLISH
X-PUBLISHED-TTL:P3D
REFRESH-INTERVAL:P3D
CALSCALE:GREGORIAN
BEGIN:VEVENT
DTSTART:20091208T230000Z
DTEND:20091209T010000Z
X-MICROSOFT-CDO-ALLDAYEVENT:FALSE
SUMMARY:2009 DEC * GRAND OPENING @ Gourmet Burger Grill City View
DESCRIPTION:GOURMET BURGER GRILL11224 Huebner Road #206\, 78230Tuesday December 8\, 2009RIBBON CUTTING @ 5:00 P.M.CONTACT: Manuel Ortega @ 558-9200CHAMBER CONTACT: Samantha Collins @ 344-4848DIRECTIONS: Travel Loop 410 West exit #16 IH 10 W/US 87 N toward El Paso. Take Exit 560 off I10 towards Ramsgate/Huebner go on to the frontage road and turn right on to Huebner Road. Destination will be on the right. You can view the map on their website. www.gourmetburgergrill.comGourmet Burger will have a buffet and free soft beverages - Beer & Wine will be available for purchase.
X-ALT-DESC;FMTTYPE=text/html:<P>GOURMET BURGER GRILL</P><P>11224 Huebner Road #206\, 78230</P><P>Tuesday December 8\, 2009</P><P>RIBBON CUTTING @ 5:00 P.M.</P><P>CONTACT: Manuel Ortega @ 558-9200</P><P>CHAMBER CONTACT: Samantha Collins @ 344-4848</P><P>DIRECTIONS: Travel Loop 410 West exit #16 IH 10 W/US 87 N toward El Paso. Take Exit 560 off I10 towards Ramsgate/Huebner go on to the frontage road and turn right on to Huebner Road. Destination will be on the right. You can view the map on their website. <A href="http://www.gourmetburgergrill.com">www.gourmetburgergrill.com</A></P><P><STRONG><EM>Gourmet Burger will have a buffet and free soft beverages - Beer &amp\; Wine will be available for purchase.</EM></STRONG> </P>
LOCATION:Gourmet Burger Grill City View
UID:e.2020.691
SEQUENCE:3
DTSTAMP:20260424T164400Z
URL:https://cm-dev.metrosa.com/events/details/2009-dec-grand-opening-gourmet-burger-grill-city-view-12-08-2009-691
END:VEVENT

END:VCALENDAR
