BEGIN:VCALENDAR
VERSION:2.0
PRODID:-//ChamberMaster//Event Calendar 2.0//EN
METHOD:PUBLISH
X-PUBLISHED-TTL:P3D
REFRESH-INTERVAL:P3D
CALSCALE:GREGORIAN
BEGIN:VEVENT
DTSTART:20091205T010000Z
DTEND:20091205T050000Z
X-MICROSOFT-CDO-ALLDAYEVENT:FALSE
SUMMARY:2009 Dec * Lab Alumni Holiday Party & 10th Anniversary Celeb
DESCRIPTION:
X-ALT-DESC;FMTTYPE=text/html:
LOCATION:The Spire at Sunset Station
UID:e.2020.669
SEQUENCE:3
DTSTAMP:20260424T164309Z
URL:https://cm-dev.metrosa.com/events/details/2009-dec-lab-alumni-holiday-party-10th-anniversary-celeb-12-04-2009-669
END:VEVENT

END:VCALENDAR
