BEGIN:VCALENDAR
VERSION:2.0
PRODID:-//ChamberMaster//Event Calendar 2.0//EN
METHOD:PUBLISH
X-PUBLISHED-TTL:P3D
REFRESH-INTERVAL:P3D
CALSCALE:GREGORIAN
BEGIN:VEVENT
DTSTART:20091217T173000Z
DTEND:20091217T190000Z
X-MICROSOFT-CDO-ALLDAYEVENT:FALSE
SUMMARY:2009 December Ambassador Awards Luncheon
DESCRIPTION:MENU: Holiday Salad: Mix of greens tossed with mandarin oranges\, strawberries and candied walnuts\, swerved with raspberry vinaigrette Turkey Roulade: Filled with home baked cornbread & cranberry dressing Fresh Grilled Green Bean Almandine Rolls & Butter Ice Tea and Water service with lunch Dessert: Holiday Bourbon Carrot Cake
X-ALT-DESC;FMTTYPE=text/html:<P><STRONG>MENU: </STRONG></P><P><STRONG>Holiday Salad: </STRONG><STRONG>Mix of greens tossed with mandarin oranges\, strawberries and candied walnuts\, swerved with raspberry vinaigrette </STRONG></P><P><STRONG>Turkey Roulade: Filled with home baked cornbread &amp\; cranberry dressing </STRONG></P><P><STRONG>Fresh Grilled Green Bean Almandine </STRONG></P><P><STRONG>Rolls &amp\; Butter </STRONG></P><P><STRONG>Ice Tea and Water service with lunch </STRONG></P><P><STRONG>Dessert: Holiday Bourbon Carrot Cake</STRONG> </P>
LOCATION:Old San Francisco Steak House
UID:e.2020.604
SEQUENCE:3
DTSTAMP:20260424T164135Z
URL:https://cm-dev.metrosa.com/events/details/2009-december-ambassador-awards-luncheon-12-17-2009-604
END:VEVENT

END:VCALENDAR
