BEGIN:VCALENDAR
VERSION:2.0
PRODID:-//ChamberMaster//Event Calendar 2.0//EN
METHOD:PUBLISH
X-PUBLISHED-TTL:P3D
REFRESH-INTERVAL:P3D
CALSCALE:GREGORIAN
BEGIN:VEVENT
DTSTART:20080221T060000Z
DTEND:20080221T060000Z
X-MICROSOFT-CDO-ALLDAYEVENT:FALSE
SUMMARY:2009 February Gala ELECTED OFFICIALS
DESCRIPTION:2009 February Gala ELECTED OFFICIALS
X-ALT-DESC;FMTTYPE=text/html:2009 February Gala ELECTED OFFICIALS
LOCATION:Marriott Rivercenter
UID:e.2020.3747
SEQUENCE:3
DTSTAMP:20260425T201356Z
URL:https://cm-dev.metrosa.com/events/details/2009-february-gala-elected-officials-02-21-2008-3747
END:VEVENT

END:VCALENDAR
