BEGIN:VCALENDAR
VERSION:2.0
PRODID:-//ChamberMaster//Event Calendar 2.0//EN
METHOD:PUBLISH
X-PUBLISHED-TTL:P3D
REFRESH-INTERVAL:P3D
CALSCALE:GREGORIAN
BEGIN:VEVENT
DTSTART:20090611T230000Z
DTEND:20090612T010000Z
X-MICROSOFT-CDO-ALLDAYEVENT:FALSE
SUMMARY:2009 JUNE* GRAND OPENING @ Frost-Stone Ridge Financial Ctr
DESCRIPTION:FROST - STONE RIDGE FINANCIAL CENTER21011 Hwy 281 North - 78258Thursday June 11\, 2009RIBBON CUTTING @ 6:00 P.M.CONTACT: Valerie Grant @ 731-0764CHAMBER CONTACT: Samantha Collins @ 364-1581 cellDIRECTIONS: 281 North @ Evans Road traveling North the bank is on the left near the HEB facing the Hwy 281. Reception will follow Ribbon Cutting. Enjoy music\, Hors D'oeuvres and Wine from Becker VineyardsFor six generations\, Frost has been committed to helping businesses and families throughout Texas prosper.  What started as a small downtown San Antonio bank is now Cullen/Frost Bankers\, Inc. (NYSE: CFR)\, a multi-billion dollar financial holding company. Frost provides a full range of commercial and consumer banking products\, investment and brokerage services\, insurance products and investment banking services. Founded in 1868\, Frost is the largest Texas-based banking organization that operates only in Texas\, with more than 100 financial centers in the Austin\, Corpus Christi\, Dallas\, Fort Worth\, Houston\, Rio Grande Valley and San Antonio regions. While much has transpired over the years\, the very principles and values Frost was founded upon have not changed one bit: Character is a person's greatest asset.
X-ALT-DESC;FMTTYPE=text/html:<P>FROST - STONE RIDGE FINANCIAL CENTER</P><P>21011 Hwy 281 North - 78258</P><P>Thursday June 11\, 2009</P><P>RIBBON CUTTING @ 6:00 P.M.</P><P>CONTACT: Valerie Grant @ 731-0764</P><P>CHAMBER CONTACT: Samantha Collins @ 364-1581 cell</P><P>DIRECTIONS: 281 North @ Evans Road traveling North the bank is on the left near the HEB facing the Hwy 281. Reception will follow Ribbon Cutting. Enjoy music\, Hors D'oeuvres and Wine from Becker Vineyards</P><P>For six generations\,&nbsp\;Frost has been committed to helping businesses and families throughout Texas prosper.&nbsp\; What started as a small downtown San Antonio&nbsp\;bank is now Cullen/Frost Bankers\, Inc. (NYSE: CFR)\, a multi-billion dollar financial holding company. Frost provides a full range of commercial and consumer banking products\, investment and brokerage services\, insurance products and investment banking services. Founded in 1868\, Frost is the largest Texas-based banking organization that operates only in Texas\, with more than 100 financial centers in the Austin\, Corpus Christi\, Dallas\, Fort Worth\, Houston\, Rio Grande Valley and San Antonio regions. While much has transpired over the years\, the very principles and values&nbsp\;Frost was founded upon have not changed one bit: Character is a person's greatest asset.</P>
LOCATION:FROST
UID:e.2020.634
SEQUENCE:3
DTSTAMP:20260425T000001Z
URL:https://cm-dev.metrosa.com/events/details/2009-june-grand-opening-frost-stone-ridge-financial-ctr-06-11-2009-634
END:VEVENT

END:VCALENDAR
