BEGIN:VCALENDAR
VERSION:2.0
PRODID:-//ChamberMaster//Event Calendar 2.0//EN
METHOD:PUBLISH
X-PUBLISHED-TTL:P3D
REFRESH-INTERVAL:P3D
CALSCALE:GREGORIAN
BEGIN:VEVENT
DTSTART:20090619T230000Z
DTEND:20090620T010000Z
X-MICROSOFT-CDO-ALLDAYEVENT:FALSE
SUMMARY:2009 JUNE*Grand Opening @ Smashburger Restaurant
DESCRIPTION:SMASHBURGER RESTAURANT21025 US Hwy 281 North\, 78258Friday June 19\, 2009RIBBON CUTTING @ 6:00 p.m. - Preopening VIP EventCONTACT: Mike Griffith @ 403-3725 xt 207CHAMBER CONTACT: Samantha Collins @ Cell #364-1581DIRECTIONS: Travel 281 N outside 1604 to Evans Road in the Stone Ridge Shopping CenterThe search began with the beef\, of course. After tasting hundreds of cuts and types of beef\, they selected Certified Angus Beef®\, the quality level that defines only 8% of all beef. The beef had to be Fresh-Not-Frozen smashed on the grill to seal in all the beefy flavor\, and cooked to juicy perfection. The name smashburger was a natural.The Best Burger You Ever Tasted is here at Smashburger. Come try it and you'll agree that all the effort was well worth while Smashburger... created by burger lovers for burger lovers.
X-ALT-DESC;FMTTYPE=text/html:<P>SMASHBURGER RESTAURANT</P><P>21025 US Hwy 281 North\, 78258</P><P>Friday June 19\, 2009</P><P>RIBBON CUTTING @ 6:00 p.m. - Preopening VIP Event</P><P>CONTACT: Mike Griffith @ 403-3725 xt 207</P><P>CHAMBER CONTACT: Samantha Collins @ Cell #364-1581</P><P>DIRECTIONS: Travel 281 N outside 1604 to Evans Road in the Stone Ridge Shopping Center</P><P><EM>The search began with the beef\, of course. After tasting hundreds of cuts and types of beef\, they selected Certified Angus Beef®\, the quality level that defines only 8% of all beef. The beef had to be Fresh-Not-Frozen smashed on the grill to seal in all the beefy flavor\, and cooked to juicy perfection. The name smashburger was a natural.The Best Burger You Ever Tasted is here at Smashburger. Come try it and you'll agree that all the effort was well worth while Smashburger... created by burger lovers for burger lovers.</EM></P>
LOCATION:Smashburger Restaurant
UID:e.2020.639
SEQUENCE:3
DTSTAMP:20260424T235904Z
URL:https://cm-dev.metrosa.com/events/details/2009-june-grand-opening-smashburger-restaurant-06-19-2009-639
END:VEVENT

END:VCALENDAR
