BEGIN:VCALENDAR
VERSION:2.0
PRODID:-//ChamberMaster//Event Calendar 2.0//EN
METHOD:PUBLISH
X-PUBLISHED-TTL:P3D
REFRESH-INTERVAL:P3D
CALSCALE:GREGORIAN
BEGIN:VEVENT
DTSTART:20090601T050000Z
DTEND:20090601T050000Z
X-MICROSOFT-CDO-ALLDAYEVENT:FALSE
SUMMARY:2009 June Lab Alumni Newsletter Ads 2nd Quarter
DESCRIPTION:2009 June Lab Alumni Newsletter Ads 2nd Quarter
X-ALT-DESC;FMTTYPE=text/html:2009 June Lab Alumni Newsletter Ads 2nd Quarter
LOCATION:2009 Leadership Lab Alumni
UID:e.2020.3837
SEQUENCE:3
DTSTAMP:20260425T000002Z
URL:https://cm-dev.metrosa.com/events/details/2009-june-lab-alumni-newsletter-ads-2nd-quarter-06-01-2009-3837
END:VEVENT

END:VCALENDAR
