BEGIN:VCALENDAR
VERSION:2.0
PRODID:-//ChamberMaster//Event Calendar 2.0//EN
METHOD:PUBLISH
X-PUBLISHED-TTL:P3D
REFRESH-INTERVAL:P3D
CALSCALE:GREGORIAN
BEGIN:VEVENT
DTSTART:20090625T210000Z
DTEND:20090625T230000Z
X-MICROSOFT-CDO-ALLDAYEVENT:FALSE
SUMMARY:2009 JUNE* POSTPONED @ Four Points Sheraton San Antonio
DESCRIPTION:FOUR POINTS BY SHERATON SAN ANTONIO NW6809 N Looop 1604 WestThursday June 25\, 2009RIBBON CUTTING @ 4:00 p.m.CONTACT: Ali Malone @ 725-2588 cellCHAMBER CONTACT: Samantha Collins @ 364-1581cell DIRECTIONS: Travel 1604 west - exit at La Cantera/Six Flags Fiesta Texas. Stay on access road - travel through 1 traffic light going forward 1/2 mile - behind the Comfort Inn & WhatABurger next to Shops At La CanteraNestled at the point where the natural beauty of the Texas Hill Country meets the dynamic energy of the Alamo City\, The Four Points by Sheraton San Antonio Northwest boasts memorable views of both the city skyline and the rolling hills. Our hotel is only minutes from the Six Flags Fiesta Texas theme park\, the world-class shopping of the Shops at La Cantera\, UTSA Campus\, Valero Corporate Headquarters\, and PGA Championship golf courses. You'll enjoy the luxury of being in the Hill Country surroundings and the experience of an intimate setting\, all within a few miles of the Alamo\, the River Walk\, Sea World\, and all of San Antonio's tourism treasures.
X-ALT-DESC;FMTTYPE=text/html:<P>FOUR POINTS BY SHERATON SAN ANTONIO NW</P><P>6809 N Looop 1604 West</P><P>Thursday June 25\, 2009</P><P>RIBBON CUTTING @ 4:00 p.m.</P><P>CONTACT: Ali Malone @ 725-2588 cell</P><P>CHAMBER CONTACT: Samantha Collins @ 364-1581cell </P><P>DIRECTIONS: Travel 1604 west - exit at La Cantera/Six Flags Fiesta Texas. Stay on access road - travel through 1 traffic light going forward 1/2 mile - behind the Comfort Inn &amp\; WhatABurger next to Shops At La Cantera</P><P><EM>Nestled at the point where the natural beauty of the Texas Hill Country meets the dynamic energy of the Alamo City\, The Four Points by Sheraton San Antonio Northwest boasts memorable views of both the city skyline and the rolling hills. Our hotel is only minutes from the Six Flags Fiesta Texas theme park\, the world-class shopping of the Shops at La Cantera\, UTSA Campus\, Valero Corporate Headquarters\, and PGA Championship golf courses. You'll enjoy the luxury of being in the Hill Country surroundings and the experience of an intimate setting\, all within a few miles of the Alamo\, the River Walk\, Sea World\, and all of San Antonio's tourism treasures.</EM></P>
LOCATION:Four Points Sheraton San Antonio NW
UID:e.2020.640
SEQUENCE:3
DTSTAMP:20260424T235844Z
URL:https://cm-dev.metrosa.com/events/details/2009-june-postponed-four-points-sheraton-san-antonio-06-25-2009-640
END:VEVENT

END:VCALENDAR
