BEGIN:VCALENDAR
VERSION:2.0
PRODID:-//ChamberMaster//Event Calendar 2.0//EN
METHOD:PUBLISH
X-PUBLISHED-TTL:P3D
REFRESH-INTERVAL:P3D
CALSCALE:GREGORIAN
BEGIN:VEVENT
DTSTART:20090319T163000Z
DTEND:20090319T180000Z
X-MICROSOFT-CDO-ALLDAYEVENT:FALSE
SUMMARY:2009 March Ambassador Luncheon
DESCRIPTION:MENU: Salad of your choice\, Bread and Iced Tea Main Entree 3 choices: (1) Chicken Bola: chicken stuffed & rolled with crab\, spinach & mozzarella cheese\, topped with a mushroom & red bell pepper cream sauce(2) Flat Iron Steak: grilled & topped with a red wine reduction served with sauteed spinach & baby seasoned potatoes. (3) Sauteed Tilapia: sauteed and topped with a lemon butter sauce served with vegetables.
X-ALT-DESC;FMTTYPE=text/html:<P>MENU: Salad of your choice\, Bread and Iced Tea </P><P>Main Entree 3 choices: </P><P>(1) Chicken Bola: chicken stuffed &amp\; rolled with crab\, spinach &amp\; mozzarella cheese\, topped with a mushroom &amp\; red bell pepper cream sauce</P><P>(2) Flat Iron Steak: grilled &amp\; topped with a red wine reduction served with sauteed spinach &amp\; baby seasoned potatoes. </P><P>(3) Sauteed Tilapia: sauteed and topped with a lemon butter sauce served with vegetables. </P>
LOCATION:Bianco * Pasta * Vino
UID:e.2020.595
SEQUENCE:3
DTSTAMP:20260425T032902Z
URL:https://cm-dev.metrosa.com/events/details/2009-march-ambassador-luncheon-03-19-2009-595
END:VEVENT

END:VCALENDAR
