BEGIN:VCALENDAR
VERSION:2.0
PRODID:-//ChamberMaster//Event Calendar 2.0//EN
METHOD:PUBLISH
X-PUBLISHED-TTL:P3D
REFRESH-INTERVAL:P3D
CALSCALE:GREGORIAN
BEGIN:VEVENT
DTSTART:20090319T213000Z
DTEND:20090320T000000Z
X-MICROSOFT-CDO-ALLDAYEVENT:FALSE
SUMMARY:2009 March GRAND OPENING @ Alof San Antonio Airport
DESCRIPTION:ALOFT SAN ANTONIO AIRPORT838 NW Loop 410\, 78216Thursay March 19\, 2009RIBBON CUTTING @ 5:00 p.m.CONTACT: Amy Hamrick @ 541-8881CHAMBER CONTACT: Samantha Collins @ 364-1581CELLDIRECTIONS: www.alofthotels.comAloha! The Lone Star state’s most historic corner has a new twist in travel — Aloft San Antonio Airport! A free airport shuttle whisks you over to our state-of-the-art loft-inspired scene\, minutes from the North Star Mall and an easy trip to downtown.Meet & mingle with friends at our wxyz bar\, grab a sweet\, savory\, or healthy snack from re:fuel by aloft\, our 24/7 pantry\, or play in our remix lobby. Plus\, you can always stay connected with complimentary hotel-wide wired and wireless Internet access.Breeze into one of our Aloft rooms\, featuring our ultra-comfortable signature bed\, an oversized showerhead\, custom amenities by Bliss® Spa\, and more. Our plug & play connectivity station charges all your electronics and links to the 42” LCD TV to maximize work and play.
X-ALT-DESC;FMTTYPE=text/html:<P>ALOFT SAN ANTONIO AIRPORT</P><P>838 NW Loop 410\, 78216</P><P>Thursay March 19\, 2009</P><P>RIBBON CUTTING @ 5:00 p.m.</P><P>CONTACT: Amy Hamrick @ 541-8881</P><P>CHAMBER CONTACT: Samantha Collins @ 364-1581CELL</P><P>DIRECTIONS: <A href="http://www.alofthotels.com">www.alofthotels.com</A></P><P>Aloha! The Lone Star state’s most historic corner has a new twist in travel — Aloft San Antonio Airport! A free airport shuttle whisks you over to our state-of-the-art loft-inspired scene\, minutes from the North Star Mall and an easy trip to downtown.</P><P>Meet &amp\; mingle with friends at our wxyz bar\, grab a sweet\, savory\, or healthy snack from re:fuel by aloft\, our 24/7 pantry\, or play in our remix lobby. Plus\, you can always stay connected with complimentary hotel-wide wired and wireless Internet access.</P><P>Breeze into one of our Aloft rooms\, featuring our ultra-comfortable signature bed\, an oversized showerhead\, custom amenities by Bliss® Spa\, and more. Our plug &amp\; play connectivity station charges all your electronics and links to the 42” LCD TV to maximize work and play.</P>
LOCATION:Aloft San Antonio Airport
UID:e.2020.612
SEQUENCE:3
DTSTAMP:20260425T033111Z
URL:https://cm-dev.metrosa.com/events/details/2009-march-grand-opening-alof-san-antonio-airport-03-19-2009-612
END:VEVENT

END:VCALENDAR
